Workbook

Sheet Om
B2: Utgiver | C2: Hvilke serier | E2: Bidragsyter - init. | F2: Bidragsyter - navn
B3: Anton J Karlsen | C3: Småformat, med de ulike seriene beskrevet i Serier | E3: CJH | F3: Christopher John Harris
C4: Seriene er registrert i flikene: Serie A, B, C, D, E og F | E4: GB | F4: GiBud
C5: Serie B og C har også andre utgivere (rettighetsinnehavere) | E5: MB | F5: Magne Botnedal
E6: NB | F6: NasjonalBiblioteket
B7: Fliker | C7: Hvilke serier | E7: PiV | F7: PiVs auksjoner
B8: Om | C8: Om regnearket, hva som skal oppdateres, hvem har oppdatert etc | E8: OA | F8: Odd Arnestad
B9: Oppdat | C9: Hva er oppdatert, av hvem og antall registreringer (kobles mot tall fra Serier) | E9: VF | F9: Vidar Flesland
B10: Serier | C10: Hvilke serier/typer er med i regnearket og antall per flik + totalt antall reg. | E10: Web | F10: Fra internett
B12: Hva skal oppdateres | C12: Beskrivelse
B13: Felter | C13: Kun data vi kjenner. F.eks kjenner vi ikke data for korrekt tittel, legg denne i kursiv - som en beskrivelse
C14: Tilsvarende for utgiverdata på baksiden
C15: Merk "Kortnr" og "Kilde" med gult - for lettere å se hva som har blitt endret
C16: Gult blir også benyttet for tomme felter
B17: Kobling til online-kopi | C17: Koble mot Tekst-kolonnen, her mange fra Marcus.uib.no
B18: Kilde | C18: Legg inn dine initialer, evt en nettbasert kilde. Siste som oppdaterer tidl. reg. legger inn sine initialer
B19: Beskrivelser | C19: Når tekster utover registrering endres, merkes endringene med gul bakgrunn
B21: Regler | C21: Beskrivelse
B22: Initialer | C22: Oppdateres av den som oppdaterer, når det gjøres endringer i registreringer
B23: Feltet "Lik" | C23: Hvis like motiver i samme flik, koble disse vha "=" til aktuell linje - begge veier
B25: Kommentarer | C25: Beskrivelse
B26: Ingen
B28: Forslag | C28: Beskrivelse
B29: Ingen

Sheet Oppdat
A1: Dato | B1: Reg. av | C1: Hvilke(n) serie(r) er oppdatert | D1: Totalt ant. registrert
A2: 45447 | B2: MB | C2: Ny design, iht ny design-mal for registreringsarkene | D2: 477
A3: 45448 | B3: POV | C3: Skuespillerkort registrert i Serie F - ny type | D3: 478
A4: 45504 | B4: MB | C4: 4 nye kort, hvorav et fra en annen utgiver (eller distributør) | D4: 484
A5: 45568 | B5: POV | C5: 5 nye kort | D5: 489
A6: 45579 | B6: MB | C6: Splittet Serie G til Serie G b = bunad pg Serie G k = kunst | D6: 489
A7: 45579 | B7: POV | C7: 5 nye registreringer serie | D7: 496
A8: 45584 | B8: MB | C8: 3 nye reg. + G er delt i G b (bunad) og G k (kunst) + alle kopier fra arkivet er nå med | D8: 499
A9: 45584 | B9: NR | C9: 4 nye J.P.J.-kort registrert - alle kopier er vist. Andre kopier er også reviderte | D9: 503
A10: 45635 | B10: NR/MB | C10: 2 nye registreringer; 1 J.P.J. og en Serie B | D10: 505
A11: 45712 | B11: MB | C11: 2 nye registreringer | D11: 507
A12: 45752 | B12: POV | C12: 112 nye registreringer | D12: 619

Sheet Serier
B1: Serie | C1: Beskrivelse | D1: Ant | E1: Utgiverdata | F1: Laveste nr | H1: Høyeste nr | K1: Antatt periode
B2: Serie A | C2: Hilsen fra og andre tidlige unr - alle uten nr | D2: ='Serie A'!E47 -> 40 | E2: Eneret A.J.K. m.fl. | F2: Unr | H2: Unr | K2: 1901-1902
B3: Serie B | C3: Hovedserie; Nr 001-999, inkl unr m/samme design | D3: ='Serie B'!E399 -> 396 | E3: Ant. J. Karlsens, Kunstforlag, Bergen m.fl. | F3: No. 2 | H3: No. 982 | K3: 1902-1905
B4: Serie C | C4: Påfølgende serie; Nr 1500-15nn - ligner Serie B | D4: ='Serie C'!E48 -> 44 | E4: Eneberettiget Ant. J. Karlsen, Bergen 1905 | F4: No. 1500 | H4: No. 1559 | K4: 1905
B5: Serie D | C5: Heldekkende og maskinfargelagt; Nr 2000-22nn | D5: ='Serie D'!E47 -> 43 | E5: Eneberettiget 1908. A. J. K.'s Kunstforlag m.fl. | F5: 2013 | H5: 2221 | K5: 1906-1908
B6: Serie E | C6: J.P.J.-serie, produsert av A.J.K | D6: ='Serie E'!E30 -> 27 | E6: J.P.J. No. nn m.fl. | F6: No. 51 | H6: No. 81 | K6: 1906
B7: Serie F | C7: Øvrige serier | D7: ='Serie F'!E29 -> 25 | E7: Eneberettiget Ant. J. Karlsen, Bergen m.fl. | F7: Unr | H7: Unr | K7: 1902-1906
B8: Serie G b | C8: Bunads- og folkelivskort (noen m/kulisser) | D8: ='Serie G b'!E25 -> 22 | E8: Eneberettiget Ant. J. Karlsen, Bergen m.fl. | F8: Unr | H8: Unr | K8: 1900-1906
B9: Serie G k | C9: Kunstkort | D9: ='Serie G k'!E25 -> 22 | E9: Eneberettiget Ant. J. Karlsen, Bergen m.fl. | F9: Unr | H9: Unr | K9: 1900-1906
C10: Totalt antall registrert | D10: =SUM(D2:D9) -> 619
B13: Serie/ type | C13: Skrivemåte AJK | D13: Tekst-farge | E13: Beskrivelse | F13: Unr/nr | G13: Hvit ramme | H13: Farge | I13: Tekst | J13: D/U | K13: Ca år | L13: Trykk
B14: A 1 | C14: Eneret A. J. K./Ant. J. Karlsens Kunstforlag | D14: Sort | E14: Hilsen fra - Bergen | F14: Unr | G14: Rund | H14: SH/F | I14: F | J14: U | K14: 1901 | L14: Lystrykk
B15: A 2 | C15: A. J. K. | D15: Sort | E15: Firkantet motiv - flere fylker | F15: Unr | G15: 4-kantet | H15: SH/F | I15: F | J15: U | K15: 1901 | L15: Lystrykk
B16: A 3 | C16: Ant. J. Karlsens Kunstforlag | D16: Sort | E16: Avrundet 4-kantet ramme - Bergen | F16: Unr | G16: Avrundet | H16: SH/F | I16: F | J16: U | K16: 1901 | L16: Lystrykk
B17: A 4 | C17: Ant. J. Karlsens Kunstforlag | D17: Rød | E17: Avrundet 4-kantet ramme - Bergen | F17: Unr | G17: Avrundet | H17: SH/F | I17: F | J17: U | K17: 1901 | L17: Lystrykk
B18: A 5 | C18: A. J. K. | D18: Sort | E18: Avrundet 4-kantet ramme - flere fylker | F18: Unr | G18: Avrundet | H18: SH/F | I18: F | J18: U | K18: 1902 | L18: Lystrykk
B19: B 1 | C19: Ant. J. Karlsens, Kunstforlag, Bergen, Eneberettiget A.J.K. Bergen | D19: Sort/rød | E19: Avrundet 4-kantet ramme - flere fylker | F19: Nr | G19: Avrundet | H19: SH/F | I19: F | J19: U/D | K19: 1902-05 | L19: Lystrykk
B20: B 2 | C20: Ant. J. Karlsens Kunstforlag, Bergen/A. J. K. Bergen Eneberettiget/Eneberettiget A.J.K. Bergen/A. J. K. i B. m.fl. | D20: Rød | E20: Hvitt felt under eller på høyre side | F20: Nr | G20: 1 side | H20: SH/F | I20: F | J20: U/D | K20: 1903-05 | L20: Lystrykk
B21: B 2a | C21: Eneberettiget A. J. K. | D21: Rød | E21: Hvitt felt nede på halve kortet for tekst | F21: Nr | G21: Halv side | H21: SH | I21: F | J21: D | K21: 1904 | L21: Lystrykk
B22: B 2b | C22: Eneberettiget A. J. K. 1904 | D22: Rød | E22: Hvitt felt under eller på høyre side | F22: Nr | G22: 1 side | H22: SH | I22: F | J22: D | K22: 1904 | L22: Lystrykk
B23: B 2c | C23: Eneberettiget A. I. K. | D23: Rød | E23: Hvitt felt under eller på høyre side | F23: Nr | G23: 1 side | H23: SH | I23: F | J23: D | K23: 1904 | L23: Lystrykk
B24: B 3 | C24: A. J. K. Bergen Eneberettiget | D24: Rød | E24: Firkantet motiv | F24: Nr | G24: Firkantet bilde | H24: SH | I24: F | J24: U | K24: 1903-05 | L24: Lystrykk
B25: B 4 | C25: A. J. K. m/strek. B under streken | D25: Rød | E25: Hvitt felt, men her ikke avrundet | F25: Nr | G25: 1 side | H25: SH | I25: F | J25: U | K25: 1904 | L25: Lystrykk
B26: B 5 | C26: Heldekkende bilde, dvs ingen hvit kant | D26: Rød | E26: Ingen hvitt felt | F26: Nr | G26: Heldekkende | H26: SH | I26: F | J26: D | K26: 1906-7 | L26: Lystrykk
B27: C 1 | C27: Eneberettiget Ant. J. Karlsen, Bergen 1905 | D27: Rød | E27: Hvitt felt under eller på høyre side | F27: Nr | G27: 1 side | H27: SH/F | I27: F | J27: D | K27: 1905 | L27: Lystrykk
B28: C 2 | C28: Eneberettiget Ant. J. Karlsen, Bergen 1905 | D28: Rød | E28: Foto i eggeformat, hvit ramme rundt | F28: Nr | G28: Rund | H28: SH | I28: F | J28: D | K28: 1905 | L28: Lystrykk
B29: C 3 | C29: A.J.K.-motiver fra andre utgivere | D29: Rød/Sort | E29: Heldekkende motiv | F29: Nr | G29: Heldekkende | H29: SH | I29: F | J29: D | K29: 1906 | L29: Lystrykk
B30: D | C30: Eneberettiget 1908. A. J. K.'s Kunstforlag | D30: Rød | E30: Rød tittel, men bakside og øvr data sort | F30: Nr | G30: Heldekkende | H30: SH/F | I30: F | J30: D | K30: 1908 | L30: Lystrykk
B31: E 1 | C31: J. P. J. No. nn på forsiden, med A. J. K. B. på baks. | D31: Rød | E31: Rød tittel, nr. og bakside | F31: Nr | G31: 1 side | H31: SH/F | I31: F | J31: D | K31: 1906 | L31: Lystrykk
B32: E 2 | C32: No. nn Eneberettiget J. P. J. - A. J. K. i B. på baks. | D32: Sort | E32: Sort tittel, nr. og bakside | F32: Nr | G32: Heldekkende | H32: SH | I32: F | J32: D | K32: 1907 | L32: Lystrykk
B33: E 3 | C33: No. Nn J. P. J. forside, A. J. K. i B. på baksiden | D33: Sort | E33: Sort tittel, nr. og bakside | F33: Nr | G33: 1 side | H33: SH | I33: F | J33: D | K33: 1907 | L33: Lystrykk
B34: F | C34: Mange ulike typer kort => ikke beskrevet i detalj | D34: Sort | E34: Diverse | F34: Unr | G34: Diverse | H34: SH/F | I34: F | J34: U/D | K34: 1903-06 | L34: Diverse
B35: G 1 | C35: Eneret A. J. K./Ant. J. Karlsens Kunstforlag | D35: S/Bl/Br | E35: Kartongkort med runde hjørner | F35: Unr | G35: Uten | H35: F | I35: F | J35: U | K35: 1900-02 | L35: Litho
B36: G 2 | C36: Eneret Ant. J. Karlsen, Bergen | D36: Sort | E36: Kartongkort; firkantet | F36: Unr | G36: Uten | H36: F | I36: F | J36: U/D | K36: 1903-07 | L36: Litho
B37: G 3 | C37: Eneret Ant. J. Karlsen, Bergen | D37: Grå | E37: Kunstkort; firkantet m/ hvit ramme | F37: Unr | G37: Uten | H37: F | I37: F | J37: U | K37: 1904-05 | L37: Litho
C40: Hypotese: Alle seriene fra A-E har både SH og F
C41: Antagelsen er at alle kortene er utgitt i SH, med alle/mange fargelagte

Sheet Serie A
A1: Nr | B1: Lik | C1: Type | D1: Hilsen fra-type uten kortnr Alle med tekst på forsiden Motiv | E1: Sist oppdatert: 10.11.24 Tekst | F1: Farge/SH | G1: Kortnr | H1: Antatt utgitt år | I1: Brukt år | J1: Format | K1: Delt/Udelt | L1: Kilde | M1: Utgiverdata | N1: Kommentar 1
A2: 1 | C2: A1 | D2: Christiesgate med Hotel Metropol | E2: Hilsen fra Bergen | F2: F | G2: Unr | H2: 1902 | J2: L | K2: U | L2: MB | M2: Eneret A.J.K | N2: Sort tekst for denne serien
A3: =A2+1 -> 2 | C3: A1 | D3: Kalfaret | E3: Hilsen fra Bergen | F3: F | G3: Unr | H3: 1902 | J3: S | K3: U | L3: POV | M3: Eneret A.J.K | N3: med avrundet ramme
A4: =A3+1 -> 3 | C4: A1 | D4: L.L.-vannet mot Hambros Skole | E4: Hilsen fra Bergen | F4: F | G4: Unr | H4: 1902 | I4: 1902 | J4: L | K4: U | L4: MB | M4: Eneret A.J.K
A5: =A4+1 -> 4 | B5: =A27 -> 24 | C5: A1 | D5: Museet for Naturhistorie | E5: Hilsen fra Bergen | F5: F | G5: Unr | H5: 1901 | I5: 1903 | J5: L | K5: U | L5: MB | M5: Ant. J. Karlsens Kunstforlag | N5: Samme kort har flere utg.typer
A6: =A5+1 -> 5 | C6: A1 | D6: Museet og Botanisk hage | E6: Hilsen fra Bergen | F6: SH | G6: Unr | H6: 1901 | J6: L | K6: U | L6: MB | M6: Eneret A.J.K | N6: sannsynligvis for alle kortene
A7: =A6+1 -> 6 | C7: A1 | D7: Nedre Kalfaret | E7: Hilsen fra Bergen | F7: SH | G7: Unr | H7: 1901 | I7: 1905 | J7: L | K7: U | L7: MB | M7: Eneret A.J.K | N7: Alle kort fins med S/H og F
A8: =A7+1 -> 7 | C8: A1 | D8: Nygårdsgaten og Katolske kirke | E8: Hilsen fra Bergen | F8: F | G8: Unr | H8: 1901 | J8: S | K8: U | L8: MB | M8: Eneret A.J.K
A9: =A8+1 -> 8 | C9: A1 | D9: Nygårdshøyden mot Johanneskirken | E9: Hilsen fra Bergen | F9: F | G9: Unr | H9: 1901 | J9: L | K9: U | L9: CJH | M9: Eneret A.J.K
A10: =A9+1 -> 9 | C10: A1 | D10: Nygårdsparken med paviljongen | E10: Hilsen fra Bergen | F10: F | G10: Unr | H10: 1901 | I10: 1903 | J10: L | K10: U | L10: CJH | M10: Ant. J. Karlsens Kunstforlag
A11: =A10+1 -> 10 | C11: A1 | D11: Nygårdsparken mot Parkveien | E11: Hilsen fra Bergen | F11: SH | G11: Unr | H11: 1901 | I11: 1903 | J11: L | K11: U | L11: CJH | M11: Eneret A.J.K
A12: =A11+1 -> 11 | C12: A1 | D12: Parkveien L | E12: Hilsen fra Bergen | F12: F | G12: Unr | H12: 1901 | I12: 1906 | J12: L | K12: U | L12: CJH | M12: A.J.K
A13: =A12+1 -> 12 | C13: A1 | D13: Parkveien S | E13: Hilsen fra Bergen | F13: F | G13: Unr | H13: 1901 | I13: 1902 | J13: S | K13: U | L13: CJH | M13: Eneret A.J.K
A14: =A13+1 -> 13 | C14: A1 | D14: Store Parkvei | E14: Hilsen fra Bergen | F14: F | G14: Unr | H14: 1901 | I14: 1902 | J14: L | K14: U | L14: CJH | M14: Eneret A.J.K
A15: =A14+1 -> 14 | C15: A1 | D15: Torget m/Holbergstatuen | E15: Hilsen fra Bergen | F15: SH | G15: Unr | H15: 1901 | I15: 1902 | J15: L | K15: U | L15: MB | M15: Eneret A.J.K
A17: =A15+1 -> 15 | B17: =A18 -> 16 | C17: A2 | D17: Fantoft Stavkirke | E17: Stavekirken Fantoft | F17: F | G17: Unr | H17: 1901 | I17: 1902 | J17: L | K17: U | L17: POV | M17: Eneret A.J.K
A18: =A17+1 -> 16 | B18: =A17 -> 15 | C18: A2 | D18: Fantoft Stavkirke | E18: Uten tittel | F18: F | G18: Unr | H18: 1901 | I18: 1902 | J18: L | K18: U | L18: MB | M18: Eneret A.J.K
A19: =A18+1 -> 17 | C19: A2 | D19: Ravnedalen Kristiansand | E19: Ravnedalen, Kristiansand | F19: SH | G19: Unr | H19: 1901 | I19: 1903 | J19: L | K19: U | L19: MB | M19: Eneret A.J.K
A20: 18 | C20: A2 | D20: Butikk Malterud & Roseth | E20: Hilsen fra Kristiansand | F20: SH | G20: Unr | H20: 1901 | I20: 1903 | J20: L | K20: U | L20: MB | M20: Eneret A.J.K
A21: 19 | C21: A2 | D21: Eg asyl | E21: Eg Asyl, Kristiansand | F21: SH | G21: Unr | H21: 1902 | I21: 1904 | J21: L | K21: U | L21: POV | M21: A.J.K. | N21: Enrst Hotel, G. Probsthahn
A22: 20 | C22: A2 | D22: Odderøyen | E22: Odderøen, Kristiansand | F22: SH | G22: Unr | H22: 1902 | I22: 1904 | J22: L | K22: U | L22: POV | M22: A.J.K.
A24: 21 | C24: A3 | D24: Sentrum sett fra Fløiveien | E24: Bergen seet fra Fløiveien | F24: F | G24: Unr | H24: 1901 | J24: L | K24: U | L24: POV | M24: Ant. J. Karlsens Kunstforlag | N24: Sort tekst for denne serien
A25: =A24+1 -> 22 | C25: A3 | D25: Fisketorget | E25: Fisketorvet med Bergens Vaag | F25: F | G25: Unr | H25: 1901 | I25: 1903 | J25: L | K25: U | L25: MB | M25: Ant. J. Karlsens Kunstforlag | N25: Avrundet ramme
A26: =A25+1 -> 23 | C26: A3 | D26: Fløystuen | E26: Flöistuen | F26: F | G26: Unr | H26: 1901 | I26: 1903 | J26: L | K26: U | L26: POV | M26: Ant. J. Karlsens Kunstforlag
A27: =A26+1 -> 24 | B27: =A5 -> 4 | C27: A3 | D27: Museet for Naturhistorie | E27: Museet | F27: F | G27: Unr | H27: 1901 | J27: L | K27: U | L27: MB | M27: Ant. J. Karlsens Kunstforlag
A28: =A27+1 -> 25 | C28: A3 | D28: Byparken | E28: Parti af Byens Park | F28: F | G28: Unr | H28: 1901 | I28: 1903 | J28: L | K28: U | L28: MB | M28: Ant. J. Karlsens Kunstforlag
A29: 27 | C29: A3 | D29: Ole Bullstatuen | E29: Ole Bulls Statue | F29: F | G29: Unr | H29: 1901 | J29: L | K29: U | L29: POV | M29: Ant. J. Karlsens Kunstforlag
A30: =A29+1 -> 28 | C30: A3 | D30: Rådstuen mot posthuset | E30: Raadstuepladsen med Postkontoret | F30: SH | G30: Unr | H30: 1901 | J30: L | K30: U | L30: MB | M30: Ant. J. Karlsens Kunstforlag
A31: =A30+1 -> 29 | C31: A3 | D31: Småstrandgaten mot Nygaten | E31: Raadstuepladsen med Postkontoret | F31: SH | G31: Unr | H31: 1901 | J31: L | K31: U | L31: MB | M31: Ant. J. Karlsens Kunstforlag
A32: 30 | C32: A3 | D32: Valkendorfstaarnet og Håkonshallen | E32: Valkendorfstaarnet med Kongehallen | F32: F | G32: Unr | H32: 1901 | I32: 1903 | J32: L | K32: U | L32: CJH | M32: Ant. J. Karlsens Kunstforlag
A34: 31 | C34: A4 | D34: Vestre Torvgate mot Johanneskirken | E34: Vestre Torvgade Bergen | F34: SH | G34: Unr | H34: 1901 | J34: L | K34: U | L34: MB | M34: A.J.K. Bergen Eneberettiget | N34: Rød tekst + avrundet ramme | U34: Firkantet ramme
A35: 32 | B35: 11 | C35: A3 | D35: Parkveien | E35: Parkveien | F35: SH | G35: Unr | H35: 1901 | I35: 1905 | J35: L | K35: U | L35: POV | M35: A.J.K. Bergen Eneberettiget | N35: Rød tekst + avrundet ramme
A37: 33 | C37: A5 | D37: Slottet | E37: Det kongelige Slot | F37: F | G37: Unr | H37: 1902 | I37: 1905 | J37: L | K37: U | L37: MB | M37: A.J.K. | N37: Sort tekst m/avrundet ramme
A38: 34 | C38: A5 | D38: Voxenkollen Sanatorium | E38: Voxenkollen Sanatorium | F38: SH | G38: Unr | H38: 1902 | I38: 1904 | J38: L | K38: U | L38: POV | M38: A.J.K.
A39: 35 | C39: A5 | D39: Holmenkollens Turisthotell | E39: Holmenkollens Turisthotel | F39: SH | G39: Unr | H39: 1902 | I39: 1904 | J39: L | K39: U | L39: POV | M39: A.J.K.
A40: 36 | C40: A5 | D40: Johannes Brun-statuen | E40: Johannes Brun Statue | F40: SH | G40: Unr | H40: 1902 | I40: 1903 | J40: L | K40: U | L40: MB | M40: A.J.K.
A41: =A40+1 -> 37 | C41: A5 | D41: Nordstrand Bad | E41: Nordstrand Bad | F41: SH | G41: Unr | H41: 1902 | I41: 1903 | J41: L | K41: U | L41: MB | M41: A.J.K.
A42: =A41+1 -> 38 | C42: A5 | D42: Oscarshall | E42: Oscarshall | F42: F | G42: Unr | H42: 1902 | I42: 1904 | J42: L | K42: U | L42: MB | M42: A.J.K.
A43: =A42+1 -> 39 | C43: A5 | D43: Stortinget | E43: Storthinget | F43: F | G43: Unr | H43: 1902 | I43: 1904 | J43: L | K43: U | L43: MB | M43: A.J.K.
A44: =A43+1 -> 40 | C44: A5 | D44: Stortingsgaten m/Nationalteateret | E44: Stortingsgaden med Nationalteateret | F44: F | G44: Unr | H44: 1902 | J44: L | K44: U | L44: GB | M44: A.J.K. | N44: Sort tekst
A45: =A44+1 -> 41 | C45: A5 | D45: Wilhelmshøy | E45: Wilhelmshäi | F45: F | G45: Unr | H45: 1902 | J45: L | K45: U | L45: Web | M45: A.J.K.
D47: Totalt registrert | E47: =SUBTOTAL(3,E2:E45) -> 40
N52: Rød tekst
N60: Utenbys

Sheet Serie B
A1: Nr | B1: Lik | C1: Type | D1: Serie 001-999 Motiv | E1: Sist oppdatert: 05.04.25 - POV Tekst | F1: Tekstside | G1: Farge/SH | H1: Kortnr | I1: Tekstfarg. | J1: Antatt utgitt år | K1: Brukt år | L1: Format | M1: Delt/Udelt | N1: Kilde | O1: Utgiverdata | P1: Kommentar
A2: 1 | C2: B 1 | D2: Hammerfest | E2: Meridianstötten - Hammerfest | F2: F | G2: F | H2: No. 2 | I2: S | J2: 1902 | L2: L | M2: U | N2: CJH | O2: Ant. J. Karlsens, Kunstforlag, Bergen
A3: =A2+1 -> 2 | C3: B 1 | D3: Hammerfest | E3: Hammerfest | F3: F | G3: F | H3: No. 3 | I3: S | J3: 1902 | L3: L | M3: U | N3: Web | O3: Ant. J. Karlsens, Kunstforlag, Bergen
A4: =A3+1 -> 3 | C4: B 1 | D4: Same med rein | E4: Lap med Rensdyr | F4: F | G4: F | H4: No. 4 | I4: S | J4: 1902 | L4: L | M4: U | N4: POV | O4: Ant. J. Karlsens, Kunstforlag, Bergen
A5: =A4+1 -> 4 | C5: B 1 | D5: Romsdalsalpene | E5: Bispen - Kongen og Dronningen | F5: F | G5: F | H5: No. 5 | I5: S | J5: 1902 | K5: 1905 | L5: L | M5: U | N5: MB | O5: Ant. J. Karlsens, Kunstforlag, Bergen
A6: =A5+1 -> 5 | C6: B 1 | D6: Svolvær | E6: Svolvær - Lofoten | F6: F | G6: SH | H6: No. 6 | I6: S | J6: 1902 | L6: L | M6: U | N6: MB | O6: Ant. J. Karlsens, Kunstforlag, Bergen
A7: =A6+1 -> 6 | C7: B 1 | D7: Svolvær | E7: Svolvær - Lofoten | F7: F | G7: F | H7: No. 7 | I7: S | J7: 1902 | L7: L | M7: U | N7: MB | O7: Ant. J. Karlsens, Kunstforlag, Bergen
A8: =A7+1 -> 7 | C8: B 1 | D8: Tromsø | E8: Tromsø | F8: F | G8: SH | H8: No. 10 | I8: S | J8: 1902 | L8: L | M8: U | N8: MB | O8: Ant. J. Karlsens, Kunstforlag, Bergen
A9: =A8+1 -> 8 | C9: B 1 | D9: Raftsund | E9: Raftsund - Lofoten | F9: F | H9: No. 11 | I9: S | J9: 1902 | M9: U | N9: CJH
A10: =A9+1 -> 9 | C10: B 1 | D10: Nordlandsbåt m/ved | E10: Nordlandsbåt | F10: F | G10: F | H10: No. 12 | I10: S | J10: 1902 | L10: L | M10: U | N10: MB | O10: Ant. J. Karlsens, Kunstforlag, Bergen
A11: =A10+1 -> 10 | C11: B 1 | D11: Hestmannøyen | E11: Hestmandö, Nordland | F11: F | G11: SH | H11: No. 13 | I11: S | J11: 1902 | L11: L | M11: U | N11: MB | O11: Ant. J. Karlsens, Kunstforlag, Bergen
A12: =A11+1 -> 11 | C12: B 1 | D12: Vågekallen | E12: Vaagekallen - Nordland | F12: F | G12: F | H12: No. 14 | I12: S | J12: 1902 | L12: L | M12: U | N12: MB | O12: Ant. J. Karlsens, Kunstforlag, Bergen
A13: =A12+1 -> 12 | C13: B 1 | D13: Torghatten | E13: Torghaten - Nordland | F13: F | G13: SH | H13: No. 15 | I13: S | J13: 1902 | L13: S | M13: U | N13: MB | O13: Ant. J. Karlsens, Kunstforlag, Bergen
A14: =A13+1 -> 13 | C14: B 1 | D14: Samefamilie | E14: Lappe-Familie | F14: F | G14: F | H14: No. 16 | I14: S | J14: 1902 | L14: S | M14: U | N14: MB | O14: Ant. J. Karlsens, Kunstforlag, Bergen
A15: =A14+1 -> 14 | C15: B 1 | D15: Fossestuen | E15: Fossestuen - Trondhjem | F15: F | G15: F | H15: No. 17 | I15: S | J15: 1902 | L15: L | M15: U | N15: MB | O15: Ant. J. Karlsens, Kunstforlag, Bergen
A16: =A15+1 -> 15 | C16: B 1 | D16: Lerfossen | E16: Lerfossen med Elektrisitetsværket - Trondhjem | F16: F | G16: F | H16: No. 18 | I16: S | J16: 1902 | L16: L | M16: U | N16: MB | O16: Ant. J. Karlsens, Kunstforlag, Bergen
A17: =A16+1 -> 16 | C17: B 1 | D17: Ila, Trondheim | E17: Ihlen - Trondhjem | F17: F | G17: F | H17: No. 20 | I17: S | J17: 1902 | L17: L | M17: U | N17: Web | O17: Ant. J. Karlsens, Kunstforlag, Bergen
A18: =A17+1 -> 17 | C18: B 1 | D18: Trondheim Jernbanestasjon | E18: Jernbanestationen - Trondhjem | F18: F | G18: F | H18: No. 21 | I18: S | J18: 1902 | L18: L | M18: U | N18: MB | O18: Ant. J. Karlsens, Kunstforlag, Bergen
A19: =A18+1 -> 18 | C19: B 1 | D19: Trondheim Domkirke | E19: Torvet med Domkirken, Trondhjem | F19: F | G19: F | H19: No. 22 | I19: S | J19: 1902 | K19: 1908 | L19: L | M19: U | N19: MB | O19: Ant. J. Karlsens, Kunstforlag, Bergen
A20: =A19+1 -> 19 | C20: B 1 | D20: Trondheim Domkirke | E20: Trondhjems Domkirke | F20: F | G20: F | H20: No. 24 | I20: S | J20: 1902 | L20: L | M20: U | N20: MB | O20: Ant. J. Karlsens, Kunstforlag, Bergen
A21: =A20+1 -> 20 | C21: B 1 | D21: Horgheim | E21: Horgheim & Troldinderne | F21: F | G21: F | H21: No. 25 | I21: S | J21: 1902 | L21: L | M21: U | N21: POV | O21: Ant. J. Karlsens, Kunstforlag, Bergen
A22: =A21+1 -> 21 | C22: B 1 | D22: Romsdalshorn | E22: Romsdalshorn | F22: F | G22: F | H22: No. 27 | I22: S | J22: 1902 | K22: 1906 | L22: L | M22: U | N22: POV | O22: Ant. J. Karlsens, Kunstforlag, Bergen
A23: =A22+1 -> 22 | C23: B 1 | D23: Synnylvfjorden, Sunnmøre | E23: Sunelvfjord, Søndmør | F23: F | G23: F | H23: No. 29 | I23: S | J23: 1902 | L23: L | M23: U | N23: Web | O23: Ant. J. Karlsens, Kunstforlag, Bergen
A24: =A23+1 -> 23 | C24: B 1 | D24: lVed Ormheim | E24: Motiv fra Romsdalen - Ved Ormeim | F24: F | G24: SH | H24: No. 30 | I24: S | J24: 1902 | L24: L | M24: U | N24: POV | O24: Ant. J. Karlsens, Kunstforlag, Bergen
A25: =A24+1 -> 24 | C25: B 1 | D25: Molde | E25: Molde | F25: F | G25: F | H25: No. 31 | I25: S | J25: 1902 | L25: L | M25: U | N25: MB | O25: Ant. J. Karlsens, Kunstforlag, Bergen
A26: =A25+1 -> 25 | C26: B 1 | D26: Vestnes | E26: Vestnæs | F26: F | G26: F | H26: No. 32 | I26: S | J26: 1902 | L26: L | M26: U | N26: Web | O26: Ant. J. Karlsens, Kunstforlag, Bergen
A27: =A26+1 -> 26 | C27: B 1 | D27: Åndalsnes | E27: Næs - Romsdal | F27: F | G27: SH | H27: No. 33 | I27: S | J27: 1902 | L27: L | M27: U | N27: POV | O27: Ant. J. Karlsens, Kunstforlag, Bergen
A28: =A27+1 -> 27 | C28: B 1 | D28: Nærøyfjord | E28: Nærøfjord - Gudvangen | F28: F | G28: F | H28: No. 34 | I28: S | J28: 1902 | L28: L | M28: U | N28: Web | O28: Ant. J. Karlsens, Kunstforlag, Bergen
A29: =A28+1 -> 28 | C29: B 1 | D29: Ålesund før brannen | E29: Aalsenud før Branden | F29: F | G29: F | H29: No. 34 | I29: S | J29: 1902 | L29: L | M29: U | N29: MB | O29: Ant. J. Karlsens, Kunstforlag, Bergen
A30: =A29+1 -> 29 | C30: B 1 | D30: Merok | E30: Merok - Geirangerfjord | F30: F | G30: F | H30: No. 35 | I30: S | J30: 1902 | L30: L | M30: U | N30: Web | O30: Ant. J. Karlsens, Kunstforlag, Bergen
A31: =A30+1 -> 30 | C31: B 1 | D31: Gudvangen | E31: Gudvangen | F31: F | G31: SH | H31: No. 36 | I31: S | J31: 1902 | L31: L | M31: U | N31: MB | O31: Ant. J. Karlsens, Kunstforlag, Bergen
A32: =A31+1 -> 31 | C32: B 1 | D32: Balholm | E32: Blahollm - Sogn | F32: F | G32: F | H32: No. 37 | I32: S | J32: 1902 | K32: 1905 | L32: L | M32: U | N32: MB | O32: Ant. J. Karlsens, Kunstforlag, Bergen
A33: =A32+1 -> 32 | C33: B 1 | D33: Lusterfjord | E33: Lysterfjord - Sogn | F33: F | G33: SH | H33: No. 41 | I33: S | J33: 1902 | K33: 1904 | L33: L | M33: U | N33: MB | O33: Ant. J. Karlsens, Kunstforlag, Bergen
A34: =A33+1 -> 33 | C34: B 1 | D34: Lærdal | E34: Lærdal | F34: F | G34: SH | H34: No. 43 | I34: S | J34: 1902 | L34: L | M34: U | N34: MB | O34: Ant. J. Karlsens, Kunstforlag, Bergen
A35: =A34+1 -> 34 | C35: B 1 | D35: Maristua | E35: Maristuen | F35: F | G35: SH | H35: No. 45 | I35: S | J35: 1902 | L35: L | M35: U | N35: MB | O35: Ant. J. Karlsens, Kunstforlag, Bergen
A36: =A35+1 -> 35 | C36: B 1 | D36: Maristua | E36: Maristuen | F36: F | G36: F | H36: No. 45 | I36: S | J36: 1902 | K36: 1906 | L36: L | M36: U | N36: POV | O36: Ant. J. Karlsens, Kunstforlag, Bergen
A37: =A36+1 -> 36 | C37: B 1 | D37: Hellesylt | E37: Hellesylt | F37: F | G37: F | H37: No. 46 | I37: S | J37: 1902 | K37: 1905 | L37: L | M37: U | N37: MB | O37: Ant. J. Karlsens, Kunstforlag, Bergen
A38: =A37+1 -> 37 | C38: B 1 | D38: Vadheim | E38: Vadheim - Sognefjord | F38: F | G38: SH | H38: No. 47 | I38: S | J38: 1902 | L38: L | M38: U | N38: MB | O38: Ant. J. Karlsens, Kunstforlag, Bergen
A39: =A38+1 -> 38 | C39: B 1 | D39: Surhelle bre | E39: Surhelle Fjærland - Sogn | F39: F | G39: SH | H39: No. 48 | I39: S | J39: 1903 | L39: L | M39: U | N39: POV | O39: Ant. J. Karlsens, Kunstforlag, Bergen
A40: =A39+1 -> 39 | C40: B 1 | D40: Langeland | E40: Langeland - Sændfjord | F40: F | G40: SH | H40: No. 49 | I40: S | J40: 1903 | K40: 1905 | L40: L | M40: U | N40: POV | O40: Ant. J. Karlsens, Kunstforlag, Bergen
A41: =A40+1 -> 40 | C41: B 1 | D41: Jølstervatnet | E41: Jölstervand - Söndfjord | F41: F | G41: F | H41: No. 50 | I41: S | J41: 1902 | L41: L | M41: U | N41: MB | O41: Ant. J. Karlsens, Kunstforlag, Bergen
A42: =A41+1 -> 41 | C42: B 1 | D42: Styreelven Nordfjord | E42: Styren Elv - Nordfjord | F42: F | G42: SH | H42: No. 51 | I42: S | J42: 1903 | L42: L | M42: U | N42: MB | O42: Ant. J. Karlsens, Kunstforlag, Bergen
A43: =A42+1 -> 42 | C43: B 1 | D43: Brudefølge | E43: Brudefølge - Olden | F43: F | G43: F | H43: No. 52 | I43: S | J43: 1903 | L43: L | M43: U | N43: POV | O43: Ant. J. Karlsens, Kunstforlag, Bergen
A44: =A43+1 -> 43 | C44: B 1 | D44: Buarbreen | E44: Ved Buarbræen - Hardanger | F44: F | G44: F | H44: No. 55 | I44: S | J44: 1903 | L44: L | M44: U | N44: MB | O44: Ant. J. Karlsens, Kunstforlag, Bergen
A45: =A44+1 -> 44 | C45: B 1 | D45: Sandvatnet | E45: Sandvand - Hardanger | F45: F | G45: SH | H45: No. 56 | I45: S | J45: 1903 | L45: L | M45: U | N45: MB | O45: Ant. J. Karlsens, Kunstforlag, Bergen
A46: =A45+1 -> 45 | C46: B 1 | D46: Sandvatnet | E46: Sandvand - Hardanger | F46: F | G46: F | H46: No. 56 | I46: S | J46: 1903 | K46: 1905 | L46: L | M46: U | N46: POV | O46: Ant. J. Karlsens, Kunstforlag, Bergen
A47: =A46+1 -> 46 | C47: B 1 | D47: Bunadsdamer Hardanger | E47: Motiv fra Hardanger | F47: F | G47: F | H47: No. 57 | I47: S | J47: 1903 | K47: 1905 | L47: L | M47: U | N47: MB | O47: Ant. J. Karlsens, Kunstforlag, Bergen
A48: =A47+1 -> 47 | C48: B 1 | D48: Mann ved siden av hest og kjerre | E48: Simodal - Hardanger | F48: F | G48: F | H48: No. 58 | I48: S | J48: 1903 | L48: L | M48: U | N48: POV | O48: Ant. J. Karlsens, Kunstforlag, Bergen
A49: =A48+1 -> 48 | C49: B 1 | D49: Seljestad | E49: Seljestad - Hardanger | F49: F | G49: F | H49: No. 59 | I49: S | J49: 1903 | L49: L | M49: U | N49: POV | O49: Ant. J. Karlsens, Kunstforlag, Bergen
A50: =A49+1 -> 49 | C50: B 1 | D50: Veien ved Eide | E50: Veien ved Eide - Hardanger | F50: F | G50: F | H50: No. 60 | I50: S | J50: 1903 | L50: S | M50: U | N50: POV | O50: Ant. J. Karlsens, Kunstforlag, Bergen
A51: =A50+1 -> 50 | C51: B 1 | D51: Ulvik | E51: Ulvik - Hardanger | F51: F | G51: F | H51: No. 61 | I51: S | J51: 1903 | L51: L | M51: U | N51: MB | O51: Ant. J. Karlsens, Kunstforlag, Bergen
A52: =A51+1 -> 51 | C52: B 1 | D52: Eidfjord | E52: Veien til Vøringsfos | F52: F | G52: F | H52: No. 62 | I52: S | J52: 1903 | K52: 1904 | L52: S | M52: U | N52: MB | O52: Ant. J. Karlsens, Kunstforlag, Bergen
A53: =A52+1 -> 52 | C53: B 1 | D53: Buarbreen | E53: Buarbræen - Hardanger | F53: F | G53: F | H53: No. 63 | I53: S | J53: 1903 | L53: L | M53: U | N53: Web | O53: Ant. J. Karlsens, Kunstforlag, Bergen
A54: =A53+1 -> 53 | C54: B 1 | D54: Ulvik | E54: Ulvik - Hardanger | F54: F | G54: F | H54: No. 67 | I54: S | J54: 1903 | K54: 1904 | L54: L | M54: U | N54: MB | O54: Ant. J. Karlsens, Kunstforlag, Bergen
A55: =A54+1 -> 54 | C55: B 1 | D55: Eidfjord | E55: Eidfjord - Hardanger | F55: F | G55: F | H55: No. 68 | I55: S | J55: 1903 | K55: 1908 | L55: L | M55: U | N55: MB | O55: Ant. J. Karlsens, Kunstforlag, Bergen
A56: =A55+1 -> 55 | C56: B 1 | D56: Odda | E56: Odde - Hardanger | F56: F | G56: F | H56: No. 68 | I56: S | J56: 1903 | L56: L | M56: U | N56: MB | O56: Ant. J. Karlsens, Kunstforlag, Bergen
A57: =A56+1 -> 56 | C57: B 1 | D57: Mot Folgefonnen | E57: Folgefond, Hardanger | F57: F | G57: F | H57: No. 69 | I57: S | J57: 1903 | K57: 1906 | L57: L | M57: U | N57: MB | O57: Ant. J. Karlsens, Kunstforlag, Bergen
A58: =A57+1 -> 57 | C58: B 1 | D58: Vossevangen | E58: Vossevangen | F58: F | G58: F | H58: No. 70 | I58: S | J58: 1903 | L58: L | M58: U | N58: POV | O58: Ant. J. Karlsens, Kunstforlag, Bergen
A59: =A58+1 -> 58 | C59: B 1 | D59: Ved Stanghelle | E59: Vossebanen ved Stanghelle | F59: F | G59: SH | H59: No. 71 | I59: S | J59: 1903 | L59: L | M59: U | N59: MB | O59: Ant. J. Karlsens, Kunstforlag, Bergen
A60: =A59+1 -> 59 | C60: B 1 | D60: Vossebanen | E60: Vossebanen | F60: F | G60: F | H60: No. 73 | I60: S | J60: 1903 | L60: L | M60: U | N60: POV | O60: Ant. J. Karlsens, Kunstforlag, Bergen
A61: =A60+1 -> 60 | C61: B 1 | D61: Fisketorget | E61: Fisketorvet - Bergen | F61: F | G61: F | H61: No. 74 | I61: S | J61: 1903 | L61: L | M61: U | N61: MB | O61: Ant. J. Karlsens, Kunstforlag, Bergen
A62: =A61+1 -> 61 | C62: B 1 | D62: Fantoft Stavkirke | E62: Stavekirken - Fantoft | F62: F | G62: F | H62: No. 75 | I62: S | J62: 1903 | L62: L | M62: U | N62: MB | O62: Ant. J. Karlsens, Kunstforlag, Bergen
A63: =A62+1 -> 62 | C63: B 1 | D63: Løveid Sluse | E63: Løveid - Sluse - Telemarken | F63: F | G63: F | H63: No. 76 | I63: S | J63: 1903 | K63: 1905 | L63: L | M63: U | N63: POV | O63: Ant. J. Karlsens, Kunstforlag, Bergen
A64: =A63+1 -> 63 | C64: B 1 | D64: Eidsfos - Sluse | E64: Eidsfos-Sluse - Telemarken | F64: F | G64: F | H64: No. 77 | I64: S | J64: 1903 | K64: 1904 | L64: L | M64: U | N64: POV | O64: Ant. J. Karlsens, Kunstforlag, Bergen
A65: =A64+1 -> 64 | C65: B 1 | D65: Loenvatnet | E65: Loenvand - Nordfjord | F65: F | G65: SH | H65: No. 78 | I65: S | J65: 1903 | L65: L | M65: U | N65: MB | O65: Ant. J. Karlsens, Kunstforlag, Bergen
A66: =A65+1 -> 65 | C66: B 1 | D66: Nesttun | E66: Nestun | F66: F | G66: SH | H66: No. 80 | I66: S | J66: 1903 | K66: 1905 | L66: L | M66: U | N66: MB | O66: Ant. J. Karlsens, Kunstforlag, Bergen
A67: =A66+1 -> 66 | C67: B 1 | D67: Nesttunelven | E67: Fra Nestun | F67: F | G67: SH | H67: No. 81 | I67: S | J67: 1903 | L67: L | M67: U | N67: MB | O67: Ant. J. Karlsens, Kunstforlag, Bergen
A68: =A67+1 -> 67 | C68: B 1 | D68: Bellevue | E68: Bellevue | F68: F | G68: SH | H68: No. 82 | I68: S | J68: 1903 | K68: 1904 | L68: L | M68: U | N68: MB | O68: Ant. J. Karlsens, Kunstforlag, Bergen
A69: =A68+1 -> 68 | B69: =A70 -> 69 | C69: B 1 | D69: Tollboden | E69: Toldboden | F69: F | G69: F | H69: No. 83 | I69: S | J69: 1903 | L69: L | M69: U | N69: CJH | O69: Ant. J. Karlsens, Kunstforlag, Bergen
A70: =A69+1 -> 69 | B70: =A69 -> 68 | C70: B 1 | D70: Tollboden | E70: Toldboden | F70: F | G70: F | H70: No. 83 | I70: R | J70: 1903 | L70: L | M70: U | N70: POV | O70: Ant. J. Karlsens, Kunstforlag, Bergen
A71: =A70+1 -> 70 | C71: B 1 | D71: Sandviken | E71: Sandvigen | F71: F | G71: SH | H71: No. 84 | I71: S | J71: 1903 | L71: L | M71: U | N71: MB | O71: Ant. J. Karlsens, Kunstforlag, Bergen
A72: =A71+1 -> 71 | C72: B 1 | D72: Rothaugen | E72: Rothaugen | F72: F | G72: SH | H72: No. 85 | I72: S | J72: 1903 | L72: L | M72: U | N72: Web | O72: Ant. J. Karlsens, Kunstforlag, Bergen
A73: =A72+1 -> 72 | C73: B 1 | D73: Nordnes med båter | E73: Nordnæs | F73: F | G73: SH | H73: No. 86 | I73: S | J73: 1903 | K73: 1905 | L73: L | M73: U | N73: MB | O73: Ant. J. Karlsens, Kunstforlag, Bergen
A74: =A73+1 -> 73 | C74: B 1 | D74: Holbergsbryggen og Fæstningskaien | E74: Bergen | F74: F | G74: F | H74: No. 87 | I74: S | J74: 1903 | K74: 1906 | L74: L | M74: U | N74: POV | O74: Ant. J. Karlsens, Kunstforlag, Bergen
A75: =A74+1 -> 74 | C75: B 1 | D75: Nykirken mot Håkonshallen | E75: Nykirken og Kongehallen | F75: F | G75: SH | H75: No. 88 | I75: S | J75: 1903 | K75: 1904 | L75: S | M75: U | N75: MB | O75: Ant. J. Karlsens, Kunstforlag, Bergen
A76: =A75+1 -> 75 | C76: B 1 | D76: Nordnesparken | E76: Nordnæsparken | F76: F | G76: SH | H76: No. 89 | I76: S | J76: 1903 | K76: 1904 | L76: L | M76: U | N76: MB | O76: Ant. J. Karlsens, Kunstforlag, Bergen
A77: =A76+1 -> 76 | C77: B 1 | D77: Byparken | E77: Byparken | F77: F | G77: SH | H77: No. 90 | I77: S | J77: 1903 | K77: 1904 | L77: L | M77: U | N77: MB | O77: Ant. J. Karlsens, Kunstforlag, Bergen
A78: =A77+1 -> 77 | C78: B 1 | D78: Ole Bulls plass | E78: Ole Bulls Plads og Hotel Norge | F78: F | G78: F | H78: No. 91 | I78: S | J78: 1903 | K78: 1905 | L78: L | M78: U | N78: MB | O78: Ant. J. Karlsens, Kunstforlag, Bergen
A79: =A78+1 -> 78 | C79: B 1 | D79: Nordnes | E79: Fra Nordnæs | F79: F | G79: SH | H79: No. 92 | I79: S | J79: 1903 | L79: L | N79: Web | O79: Ant. J. Karlsens, Kunstforlag, Bergen
A80: =A79+1 -> 79 | C80: B 1 | D80: Parkveien | E80: Parkveyen | F80: F | G80: SH | H80: No. 93 | I80: S | J80: 1903 | K80: 1904 | L80: L | M80: U | N80: CJH | O80: Ant. J. Karlsens, Kunstforlag, Bergen
A81: =A80+1 -> 80 | C81: B 1 | D81: Vågen med båter | E81: Fra Bergens Vaag | F81: F | G81: SH | H81: No. 94 | I81: S | J81: 1903 | K81: 1905 | L81: L | M81: U | N81: MB | O81: Ant. J. Karlsens, Kunstforlag, Bergen
A82: =A81+1 -> 81 | C82: B 1 | D82: Ole Bulls plass | E82: Ole Bulls Plads | F82: F | G82: SH | H82: No. 95 | I82: S | J82: 1903 | K82: 1904 | L82: L | M82: U | N82: MB | O82: Ant. J. Karlsens, Kunstforlag, Bergen
A83: =A82+1 -> 82 | C83: B 1 | D83: Småstrandgaten m/trikker | E83: Raadhuset og Postkontoret | F83: F | G83: SH | H83: No. 96 | I83: S | J83: 1903 | L83: L | M83: U | N83: MB | O83: Ant. J. Karlsens, Kunstforlag, Bergen
A84: =A83+1 -> 83 | C84: B 2 | D84: Småstrandgaten m/trikker | E84: Raadhuset og Postkontoret | F84: F | G84: SH | H84: No. 96 | I84: R | J84: 1903 | L84: L | M84: U | N84: MB | O84: Ant. J. Karlsens Kunstforlag, Bergen | P84: Rød txt foran, sort bak
A85: =A84+1 -> 84 | C85: B 1 | D85: Sjømannshjemmet | E85: Sjømannshjemmet | F85: F | G85: SH | H85: No. 97 | I85: S | J85: 1903 | K85: 1904 | L85: L | M85: U | N85: MB | O85: Ant. J. Karlsens Kunstforlag, Bergen
A86: =A85+1 -> 85 | C86: B 2 | D86: Sjømannshjemmet | E86: Sjømannshjemmet | F86: F | G86: SH | H86: No. 97 | I86: R | J86: 1903 | K86: 1906 | L86: S | M86: U | N86: MB | O86: Ant. J. Karlsens Kunstforlag, Bergen
A87: =A86+1 -> 86 | C87: B 1 | D87: Ole Bulls plass | E87: Logegaten med Holdts Hotel | F87: F | G87: SH | H87: No. 98 | I87: S | J87: 1903 | K87: 1908 | L87: L | M87: U | N87: MB | O87: Ant. J. Karlsens Kunstforlag, Bergen
A88: =A87+1 -> 87 | C88: B 2 | D88: Ole Bulls plass | E88: Logegaten med Holdts Hotel | F88: F | G88: SH | H88: No. 98 | I88: R | J88: 1903 | K88: 1909 | L88: L | M88: U | N88: MB | O88: Ant. J. Karlsens Kunstforlag, Bergen
A89: =A88+1 -> 88 | C89: B 1 | D89: Fløyveien med korps | E89: Fløiveien | F89: F | G89: SH | H89: No. 99 | I89: S | J89: 1903 | L89: L | M89: U | N89: MB | O89: Ant. J. Karlsens Kunstforlag, Bergen
A90: =A89+1 -> 89 | C90: B 1 | D90: Bergenhus | E90: Fra Bergenhus Fæstning | F90: F | G90: F | H90: No. 101 | I90: S | J90: 1903 | L90: L | M90: U | N90: MB | O90: Ant. J. Karlsens Kunstforlag, Bergen
A91: =A90+1 -> 90 | C91: B 1 | D91: Bergenhus | E91: Fra Bergenhus Fæstning | F91: F | G91: SH | H91: No. 101 | I91: R | J91: 1903 | L91: L | M91: U | N91: MB | O91: Ant. J. Karlsens Kunstforlag, Bergen
A92: =A91+1 -> 91 | C92: B 1 | D92: Nygårdsparken | E92: Nygaardsparken | F92: F | G92: F | H92: No. 102 | I92: S | J92: 1903 | L92: L | M92: U | N92: MB | O92: Ant. J. Karlsens Kunstforlag, Bergen
A93: =A92+1 -> 92 | C93: B 1 | D93: Nygårdsbroen | E93: Udsigt fra Nygaardsbroen | F93: F | G93: F | H93: No. 103 | I93: S | J93: 1903 | L93: L | M93: U | N93: MB | O93: Ant. J. Karlsens Kunstforlag, Bergen
A94: =A93+1 -> 93 | C94: B 1 | D94: Vågsalmenningen | E94: Børsen og Norges Bank | F94: F | G94: SH | H94: No. 104 | I94: S | J94: 1903 | K94: 1904 | L94: L | M94: U | N94: MB | O94: Ant. J. Karlsens Kunstforlag, Bergen
A95: =A94+1 -> 94 | C95: B 1 | D95: Fjøsanger | E95: Fjøsanger | F95: F | G95: F | H95: No. 105 | I95: S | J95: 1903 | K95: 1908 | L95: L | M95: U | N95: MB | O95: Ant. J. Karlsens Kunstforlag, Bergen | P95: Rød txt foran, sort bak
A96: =A95+1 -> 95 | C96: B 1 | D96: Fløien mot Vågen | E96: Bergen seet fra Flöien | F96: F | G96: SH | H96: No. 106 | I96: S | J96: 1903 | L96: L | M96: U | N96: MB | O96: Ant. J. Karlsens Kunstforlag, Bergen
A97: =A96+1 -> 96 | B97: =A98 -> 97 | C97: B 1 | D97: Mariakirken | E97: Tyskekirken | F97: F | G97: SH | H97: No. 108 | I97: S | J97: 1903 | K97: 1904 | L97: L | M97: U | N97: MB | O97: Ant. J. Karlsens Kunstforlag, Bergen
A98: =A97+1 -> 97 | B98: =A97 -> 96 | C98: B 1 | D98: Mariakirken | E98: Tyskekirken | F98: F | G98: SH | H98: No. 108 | I98: R | J98: 1903 | L98: L | M98: U | N98: POV | O98: Ant. J. Karlsens Kunstforlag, Bergen
A99: =A98+1 -> 98 | C99: B 1 | D99: Demonstrasjon på Engen | E99: Afholdsfolkets Demornstasjontog 1904 på Engen | F99: F | G99: F | H99: No. 109 | I99: S | J99: 1903 | L99: L | M99: U | N99: MB | O99: Ant. J. Karlsens Kunstforlag, Bergen
A100: =A99+1 -> 99 | C100: B 1 | D100: Fisketorget | E100: Fisketorvet | F100: F | G100: SH | H100: No. 110 | I100: S | J100: 1903 | K100: 1904 | L100: L | M100: U | N100: MB | O100: Ant. J. Karlsens Kunstforlag, Bergen
...

Sheet Serie C
A1: Nr | B1: Lik | C1: Type | D1: Serie 1500-15nn Motiv | E1: Sist oppdatert: 03.10.24 - POV Tekst | F1: Tekstside | G1: Farge/SH | H1: Kortnr | I1: Tekstfarg. | J1: Antatt utgitt år | K1: Brukt år | L1: Format | M1: Delt/Udelt | N1: Kilde | O1: Utgiverdata | P1: Kommentar 1 | Q1: Kommentar 2
A2: 1 | C2: C 1 | D2: Solheimsviken | E2: Panorama af Solheimsvigen | F2: F | G2: SH | H2: No. 1500 | I2: R | J2: 1905 | L2: L | M2: D | N2: MB | O2: Eneberettiget Ant. J. Karlsen, Bergen 1905 | P2: A. J. K. B. - bak
A3: =A2+1 -> 2 | C3: C 1 | D3: Puddefjorden og Sentrum | E3: Bergen seet fra Damsgaard | F3: F | G3: SH | H3: No. 1501 | I3: R | J3: 1905 | K3: 1906 | L3: L | M3: D | N3: CJH | O3: Eneberettiget Ant. J. Karlsen, Bergen 1905 | P3: A. J. K. B. - bak
A4: =A3+1 -> 3 | C4: C 1 | D4: Fisketorget | E4: Fisketorvet, Bergen | F4: F | G4: SH | H4: No. 1504 | I4: R | J4: 1905 | L4: L | M4: D | N4: MB | O4: Eneberettiget Ant. J. Karlsen, Bergen 1905 | P4: A. J. K. B. - bak
A5: =A4+1 -> 4 | C5: C 1 | D5: Fjellveien mot Skansen | E5: Udsigt fra Fjeldveien, Bergen | F5: F | G5: SH | H5: No. 1506 | I5: R | J5: 1905 | L5: L | M5: D | N5: Web | O5: Eneberettiget Ant. J. Karlsen, Bergen 1905
A6: =A5+1 -> 5 | B6: =A7 -> 6 | C6: C 1 | D6: Marineholmen og Nygård | E6: Marineholmen, Bergen | F6: F | G6: SH | H6: No. 1507 | I6: R | J6: 1905 | K6: 1907 | L6: L | M6: D | N6: CJH | O6: Eneberettiget Ant. J. Karlsen, Bergen 1905 | P6: A. J. K. B. - bak
A7: =A6+1 -> 6 | B7: =A6 -> 5 | C7: C 3 | D7: Marineholmen og Nygård | E7: Store Lungegaardsvand, Bergen | F7: F | G7: SH | H7: 101 | I7: R | J7: 1907 | K7: 1911 | L7: L | M7: D | N7: CJH | O7: C.A.Erichsen Christiania-logo | P7: Bergen nnn | Q7: Ulik trykktype; boktrykk?
A8: =A7+1 -> 7 | C8: C 1 | D8: Solheimsviken | E8: Panorama af Bergen | F8: F | G8: SH | H8: No. 1509 | I8: R | J8: 1905 | K8: 1907 | L8: L | M8: D | N8: MB | O8: Eneberettiget Ant. J. Karlsen, Bergen 1905 | P8: A. J. K. B. - bak
A9: =A8+1 -> 8 | C9: C 1 | D9: Turnhallen | E9: Turnhallen, Bergen | F9: F | G9: SH | H9: No. 1510 | I9: R | J9: 1905 | K9: 1907 | L9: L | N9: Web | O9: Eneberettiget Ant. J. Karlsen, Bergen 1905
A10: =A9+1 -> 9 | C10: C 1 | D10: Torget mot Fløien | E10: Øvre Torvet, Bergen | F10: F | G10: SH | H10: No. 1511 | I10: R | J10: 1905 | L10: L | M10: D | N10: MB | O10: Eneberettiget Ant. J. Karlsen, Bergen 1905 | P10: A. J. K. B. - bak
A11: =A10+1 -> 10 | C11: C 1 | D11: Strandgaten | E11: Strandgaden, Bergen | F11: F | G11: SH | H11: No. 1512 | I11: R | J11: 1905 | K11: 1906 | L11: L | M11: D | N11: MB | O11: Eneberettiget Ant. J. Karlsen, Bergen 1905 | P11: A. J. K. B. - bak
A12: =A11+1 -> 11 | C12: C 1 | D12: Lille Lungegård mot Kaigaten | E12: Kaigaden, Bergen | F12: F | G12: SH | H12: No. 1513 | I12: R | J12: 1905 | K12: 1906 | L12: L | M12: D | N12: MB | O12: Eneberettiget Ant. J. Karlsen, Bergen 1905 | P12: A. J. K. B. - bak
A13: =A12+1 -> 12 | C13: C 1 | D13: Festningskaien | E13: Fæstningskaien | F13: F | G13: F | H13: No. 1514 | I13: R | J13: 1905 | L13: L | M13: D | N13: Web | O13: Eneberettiget Ant. J. Karlsen, Bergen 1905
A14: =A13+1 -> 13 | C14: C 1 | D14: Nygårdsgaten | E14: Nygaardsgaden, Bergen | F14: F | G14: SH | H14: No. 1515 | I14: R | J14: 1905 | K14: 1906 | L14: L | M14: D | N14: MB | O14: Eneberettiget Ant. J. Karlsen, Bergen 1905 | P14: A. J. K. B. - bak
A15: =A14+1 -> 14 | C15: C 1 | D15: Kong Oscarsgate | E15: Kong Oscarsgade, Bergen | F15: F | G15: SH | H15: No. 1517 | I15: R | J15: 1905 | K15: 1907 | L15: L | M15: D | N15: PIV | O15: Eneberettiget Ant. J. Karlsen, Bergen 1905
A16: =A15+1 -> 15 | C16: C 2 | D16: Muren | E16: Muren, Bergen | F16: F | G16: SH | H16: No. 1518 | I16: R | J16: 1905 | L16: L | N16: NB | O16: Eneberettiget Ant. J. Karlsen, Bergen 1905
A17: =A16+1 -> 16 | C17: C 1 | D17: Vetrlidsalmenning | E17: Vetrlidsalmenning | F17: F | G17: SH | H17: No. 1519 | I17: R | J17: 1905 | K17: 1909 | L17: L | M17: D | N17: MB | O17: Eneberettiget Ant. J. Karlsen, Bergen 1905 | P17: A. J. K. B. - bak
A18: =A17+1 -> 17 | C18: C 1 | D18: Fløiveien | E18: Fløiveien, Bergen | F18: F | G18: SH | H18: No. 1520 | I18: R | J18: 1905 | L18: L | M18: D | N18: Web | O18: Eneberettiget Ant. J. Karlsen, Bergen 1905
A19: =A18+1 -> 18 | C19: C 1 | D19: Dreggsalmenningen | E19: Drægsalmenning, Bergen | F19: F | G19: SH | H19: No. 1521 | I19: R | J19: 1905 | K19: 1905 | L19: L | M19: D | N19: MB | O19: Eneberettiget Ant. J. Karlsen, Bergen 1905 | P19: A. J. K. B. - bak
A20: 19 | C20: C 1 | D20: Holbergsalmenningen | E20: Holbergsalmenning, Bergen | F20: F | G20: SH | H20: No. 1522 | I20: R | J20: 1905 | K20: 1905 | L20: L | M20: D | N20: POV | O20: Eneberettiget Ant. J. Karlsen, Bergen 1905 | P20: A. J. K. B. - bak
A21: 20 | C21: C 1 | D21: Tyskekirken, int. | E21: Interiør af Tyskekirken, Bergen | F21: F | G21: SH | H21: No. 1523 | I21: R | J21: 1905 | K21: 1907 | L21: S | M21: D | N21: MB | O21: Eneberettiget Ant. J. Karlsen, Bergen 1905 | P21: A. J. K. B. - bak
A22: =A21+1 -> 21 | C22: C 1 | D22: Tyskekirken, int. | E22: Interiør af Tyskekirken, Bergen | F22: F | G22: SH | H22: No. 1524 | I22: R | J22: 1905 | K22: 1906 | L22: S | M22: D | N22: MB | O22: Eneberettiget Ant. J. Karlsen, Bergen 1905 | P22: A. J. K. B. - bak
A23: =A22+1 -> 22 | C23: C 1 | D23: Tyskekirken, int. | E23: Interiør af Tyskekirken, Bergen | F23: F | G23: SH | H23: No. 1525 | I23: R | J23: 1905 | L23: S | M23: D | N23: CJH | O23: Eneberettiget Ant. J. Karlsen, Bergen 1905 | P23: A. J. K. B. - bak
A24: =A23+1 -> 23 | C24: C 1 | D24: Fløiveien mot Sentrum | E24: Fløiveien, Bergen | F24: F | G24: SH | H24: No. 1526 | I24: R | J24: 1905 | K24: 1908 | L24: L | M24: D | N24: MB | O24: Eneberettiget Ant. J. Karlsen, Bergen 1905 | P24: A. J. K. B. - bak
A25: =A24+1 -> 24 | C25: C 1 | D25: Holbergsalmenningen | E25: Holbergsalmending, Bergen | F25: F | G25: SH | H25: No. 1527 | I25: R | J25: 1905 | K25: 1906 | L25: L | M25: D | N25: MB | O25: Eneberettiget Ant. J. Karlsen, Bergen 1905 | P25: A. J. K. B. - bak
A26: =A25+1 -> 25 | C26: C 1 | D26: Møllenpris, Bergen | E26: Møhlenpris, Bergen | F26: F | G26: SH | H26: No. 1528 | I26: R | J26: 1905 | K26: 1907 | L26: L | M26: D | N26: MB | O26: Eneberettiget Ant. J. Karlsen, Bergen 1905 | P26: A. J. K. B. - bak
A27: =A26+1 -> 26 | C27: C 1 | D27: Allegaten | E27: Allegaden, Bergen | F27: F | G27: SH | H27: No. 1529 | I27: R | J27: 1905 | K27: 1907 | L27: L | M27: D | N27: MB | O27: Eneberettiget Ant. J. Karlsen, Bergen 1905 | P27: A. J. K. B. - bak
A28: =A27+1 -> 27 | C28: C 1 | D28: Flåmsdalen | E28: Flaamsdalen fra Vatnahalsen | F28: F | G28: SH | H28: No. 1531 | I28: R | J28: 1905 | K28: 1906 | L28: L | M28: D | N28: MB | O28: Eneberettiget Ant. J. Karlsen, Bergen 1905 | P28: A. J. K. B. - bak
A29: =A28+1 -> 28 | C29: C 1 | D29: Hallingskeid | E29: Hallingskeid, Bergensbanen | F29: F | G29: SH | H29: No. 1532 | I29: R | J29: 1905 | L29: L | M29: D | N29: MB | O29: Eneberettiget Ant. J. Karlsen, Bergen 1905 | P29: A. J. K. B. - bak
A30: =A29+1 -> 29 | C30: C 1 | D30: Kjosfossen | E30: Kjosfossen, Vatnahalsen | F30: F | G30: SH | H30: No. 1533 | I30: R | J30: 1905 | L30: S | M30: D | N30: MB | O30: Eneberettiget Ant. J. Karlsen, Bergen 1905 | P30: A. J. K. B. - bak
A31: =A30+1 -> 30 | C31: C 1 | D31: Myrdal | E31: Myrdalen, Bergensbanen | F31: F | G31: SH | H31: No. 1535 | I31: R | J31: 1905 | K31: 1911 | L31: L | M31: U | N31: MB | O31: Eneberettiget Ant. J. Karlsen, Bergen 1905 | P31: A. J. K. B. - bak
A32: =A31+1 -> 31 | C32: C 1 | D32: Kleiven | E32: Kleiven, Bergensbanen | F32: F | G32: SH | H32: No. 1536 | I32: R | J32: 1905 | L32: L | M32: D | N32: Web | O32: Eneberettiget Ant. J. Karlsen, Bergen 1905
A33: =A32+1 -> 32 | C33: C 1 | D33: Upsete stasjon | E33: Opset st., Bergensbanen | F33: F | G33: SH | H33: No. 1539 | I33: R | J33: 1905 | K33: 1906 | L33: L | M33: D | N33: MB | O33: Eneberettiget Ant. J. Karlsen, Bergen 1905 | P33: A. J. K. B. - bak
C34: C 1 | D34: Grove st. | E34: Grove st., Bergensbanen | F34: F | G34: SH | H34: No. 1540 | I34: R | J34: 1905 | L34: S | M34: D | N34: POV | O34: Eneberettiget Ant. J. Karlsen, Bergen 1905 | P34: A. J. K. B. - bak
A35: =A33+1 -> 33 | C35: C 1 | D35: Hotell Vatnahalsen | E35: Hotel Vatnahalsen | F35: F | G35: SH | H35: No. 1541 | I35: R | J35: 1905 | K35: 1908 | L35: L | M35: D | N35: MB | O35: Eneberettiget Ant. J. Karlsen, Bergen 1905 | P35: A. J. K. B. - bak
A36: 34 | C36: C 1 | D36: Sverrestien, Bergensbanen | E36: Sverrestien, Bergensbanen | F36: F | G36: SH | H36: No. 1542 | I36: R | J36: 1905 | L36: S | M36: D | N36: POV | O36: Eneberettiget Ant. J. Karlsen, Bergen 1905 | P36: A. J. K. B. - bak
A37: 35 | C37: C 1 | D37: Sverrestien, Bergensbanen | E37: Sverrestien, Bergensbanen | F37: F | G37: SH | H37: No. 1547 | I37: R | J37: 1905 | K37: 1906 | L37: L | M37: D | N37: CJH | O37: Eneberettiget Ant. J. Karlsen, Bergen 1905 | P37: A. J. K. B. - bak
A38: =A37+1 -> 36 | C38: C 1 | D38: Sverrestien, Bergensbanen | E38: Sverrestien, Bergensbanen | F38: F | G38: SH | H38: No. 1548 | I38: R | J38: 1905 | L38: S | M38: D | N38: POV | O38: Eneberettiget Ant. J. Karlsen, Bergen 1905 | P38: A. J. K. B. - bak
A39: =A38+1 -> 37 | C39: C 1 | D39: Klevenvandet, Bergensbanen | E39: Klevenvandet, Bergensbanen | F39: F | G39: SH | H39: No. 1549 | I39: R | J39: 1905 | L39: L | M39: D | N39: POV | O39: Eneberettiget Ant. J. Karlsen, Bergen 1905 | P39: A. J. K. B. - bak
A40: =A39+1 -> 38 | C40: C 1 | D40: Byparken | E40: Byparken, Bergen | F40: F | G40: SH | H40: No. 1550 | I40: R | J40: 1905 | K40: 1905 | L40: L | M40: D | N40: CJH | O40: Eneberettiget Ant. J. Karlsen, Bergen 1905 | P40: A. J. K. B. - bak
A41: =A40+1 -> 39 | C41: C 1 | D41: Kalfaret | E41: Kalfaret, Bergen | F41: F | G41: SH | H41: No. 1552 | I41: R | J41: 1905 | L41: S | M41: D | N41: MB | O41: Eneberettiget Ant. J. Karlsen, Bergen 1905 | P41: A. J. K. B. - bak
A42: =A41+1 -> 40 | C42: C 1 | D42: Kong Haakon | E42: Kong Haakon | F42: F | G42: SH | H42: No. 1553 | I42: R | J42: 1905 | L42: S | M42: D | N42: Web | O42: Eneberettiget Ant. J. Karlsen, Bergen 1905
A43: =A42+1 -> 41 | C43: C 2 | D43: Gamlehaugen | E43: Statsminister Chr. Michelsens Villa, Fjøsanger | F43: F | G43: SH | H43: No. 1555 | I43: R | J43: 1905 | L43: L | M43: D | N43: MB | O43: Eneberettiget Ant. J. Karlsen, Bergen 1905 | P43: A. J. K. B. - bak
A44: =A43+1 -> 42 | C44: C 1 | D44: Fantoft Stavkirke | E44: Fantoft Stavekirke | F44: F | G44: SH | H44: No. 1557 | I44: R | J44: 1905 | L44: L | M44: D | N44: MB | O44: Eneberettiget Ant. J. Karlsen, Bergen 1905 | P44: A. J. K. B. - bak
A45: =A44+1 -> 43 | C45: C 3 | D45: Moldøy | E45: Parti fra Moldöen | F45: F | G45: SH | H45: No. 1559 | I45: R | J45: 1905 | K45: 1912 | L45: L | M45: D | N45: MB | O45: Eneberettiget Andreas Osmundsvaag "A J K B" | P45: A. J. K. i B. - bak
A46: 43 | C46: C 3 | D46: Moldøy | E46: Parti fra Moldöen | F46: F | G46: SH | H46: No. 1560 | I46: R | J46: 1905 | K46: 1909 | L46: L | M46: D | N46: POV | O46: Eneberettiget Andreas Osmundsvaag "A J K B" | P46: A. J. K. i B. - bak
D48: Totalt registrert | E48: =SUBTOTAL(3,E2:E45) -> 44

Sheet Serie D
A1: Nr | B1: Lik | C1: Type | D1: Serie 2000-22nn Motiv | E1: Sist oppdatert: 19.10.24 - MB Tekst | F1: Tekstside | G1: Farge/SH | H1: Kortnr | I1: Tekstfarg. | J1: Antatt utgitt år | K1: Brukt år | L1: Format | M1: Delt/Udelt | N1: Kilde | O1: Utgiverdata | P1: Kommentar
A2: 1 | C2: D | D2: Raftsund | E2: Raftsund, Lofoten | F2: F | G2: SH | H2: 2006 | I2: R | J2: 1908 | L2: L | M2: D | N2: POV | O2: Eneberettiget 1908. A. J. K.'s Kunstforlag | P2: Nr og baks.tekst i sort
A3: 2 | C3: D | D3: Granvin med HSD-båt | E3: Eide | F3: F | G3: F | H3: 2013 | I3: R | J3: 1908 | L3: L | M3: D | N3: Web
A4: =A3+1 -> 3 | C4: D | D4: Gloppen | E4: Gloppen, Nordfjord | F4: F | G4: SH | H4: 2016 | I4: R | J4: 1908 | K4: 1911 | L4: L | M4: D | N4: MB | O4: Eneberettiget 1908. A. J. K.'s Kunstforlag
A5: 4 | C5: D | D5: Borgund Kirke | E5: Borgund, Kirke, Lærdal | F5: F | G5: SH | H5: 2017 | I5: R | J5: 1908 | K5: 1911 | L5: L | M5: D | N5: POV | O5: Eneberettiget 1908. A. J. K.'s Kunstforlag | P5: Nr og baks.tekst i sort
A6: 5 | C6: D | D6: Molde | E6: Molde | F6: F | G6: SH | H6: 2022 | I6: R | J6: 1908 | L6: L | M6: D | N6: MB | O6: Eneberettiget 1908. A. J. K.'s Kunstforlag | P6: Nr og baks.tekst i sort
A7: 6 | C7: D | D7: Søholdt | E7: Søholdt | F7: F | G7: F | H7: 2027 | I7: R | J7: 1908 | L7: L | M7: D | N7: POV | O7: Eneberettiget 1908. A. J. K.'s Kunstforlag | P7: Nr og baks.tekst i sort
A8: 7 | C8: D | D8: Horgheim | E8: Horgheim og Troldtinderne | F8: F | G8: SH | H8: 2029 | I8: R | J8: 1908 | L8: L | M8: D | N8: POV | O8: Eneberettiget 1908. A. J. K.'s Kunstforlag | P8: Nr og baks.tekst i sort
A9: 8 | C9: D | D9: Ulvik | E9: Ulvik, Hardanger | F9: F | G9: SH | H9: 2033 | I9: R | J9: 1908 | L9: L | M9: D | N9: POV | O9: Eneberettiget 1908. A. J. K.'s Kunstforlag | P9: Nr og baks.tekst i sort
A10: 9 | C10: D | D10: Gudvangen med båt | E10: Gudvangen | F10: F | G10: SH | H10: 2037 | I10: R | J10: 1908 | L10: L | M10: D | N10: Web
A11: 10 | C11: D | D11: Gudvangen | E11: Gudvangen | F11: F | G11: F | H11: 2039 | I11: R | J11: 1908 | K11: 1913 | L11: L | M11: D | N11: POV | O11: Eneberettiget 1908. A. J. K.'s Kunstforlag | P11: Nr og baks.tekst i sort
A12: 11 | C12: D | D12: Nærøyfjord | E12: Næröfjord | F12: F | G12: F | H12: 2042 | I12: R | J12: 1908 | K12: 1909 | L12: L | M12: D | N12: MB | O12: Eneberettiget 1908. A. J. K.'s Kunstforlag | P12: Nr og baks.tekst i sort
A13: 12 | C13: D | D13: Nærødalen | E13: Nærødalen | F13: F | G13: F | H13: 2043 | I13: R | J13: 1908 | K13: 1909 | L13: S | M13: D | N13: POV | O13: Eneberettiget 1908. A. J. K.'s Kunstforlag | P13: Nr og baks.tekst i sort
A14: 13 | C14: D | D14: Brudefærd, Hardanger | E14: Brudefærd, Hardanger | F14: F | G14: SH | H14: 2044 | I14: R | J14: 1908 | K14: 1918 | L14: L | M14: D | N14: MB | O14: Eneberettiget 1908. A. J. K.'s Kunstforlag | P14: Nr og baks.tekst i sort
A15: =A14+1 -> 14 | C15: D | D15: Balestrand | E15: Balestrand, Sogn | F15: F | G15: F | H15: 2047 | I15: R | J15: 1908 | L15: L | M15: D | N15: MB | P15: Stedet mot fjorden
A16: =A15+1 -> 15 | C16: D | D16: Balestrand | E16: Balestrand, Sogn | F16: F | G16: F | H16: 2047 B | I16: R | J16: 1908 | L16: L | M16: D | N16: Web | P16: Med mann i robåt
A17: =A16+1 -> 16 | C17: D | D17: Nedre Vassenden, Jølster | E17: Nedre Vassenden, Sogn | F17: F | G17: F | H17: 2049 | I17: R | J17: 1908 | L17: L | M17: D | N17: MB | O17: Eneberettiget 1908. A. J. K.'s Kunstforlag | P17: Nr og baks.tekst i sort
A18: =A17+1 -> 17 | C18: D | D18: Suphellebræ Fjærland | E18: Suphellebræ Fjærland. Sogn | F18: F | G18: SH | H18: 2052 | I18: R | J18: 1908 | K18: 1910 | L18: L | M18: D | N18: POV | O18: Eneberettiget 1908. A. J. K.'s Kunstforlag | P18: Nr og baks.tekst i sort
A19: 18 | C19: D | D19: Bulken | E19: Bulken, Voss | F19: F | G19: F | H19: 2063 | I19: R | J19: 1908 | L19: L | M19: D | N19: POV | O19: Eneberettiget 1908. A. J. K.'s Kunstforlag | P19: Nr og baks.tekst i sort
A20: 19 | C20: D | D20: Framnes Hotell | E20: Framnæs Hotel | F20: F | G20: SH | H20: 2075 | I20: R | J20: 1908 | K20: 1910 | L20: L | M20: D | N20: MB | O20: Eneberettiget 1908. A. J. K.'s Kunstforlag | P20: Nr og baks.tekst i sort
A21: 20 | C21: D | D21: Vatnahalsen | E21: Vatnahalsen Bergensbanen | F21: F | G21: SH | H21: 2094 | I21: R | J21: 1908 | L21: L | M21: D | N21: POV | O21: Eneberettiget A. J. K. | P21: Nr. og utg.data på forsiden
A22: 21 | C22: D | D22: Opstrynsvaand, Nordfjord | E22: Opstrynsvaand, Nordfjord | F22: F | G22: SH | H22: 2107 | I22: R | J22: 1908 | L22: L | M22: D | N22: POV | O22: Eneberettiget 1908. A. J. K.'s Kunstforlag | P22: Nr og baks.tekst i sort
A23: =A22+1 -> 22 | C23: D | D23: Hotell Alexandra, Loen | E23: Hotel Alexandra, Loen | F23: F | G23: F | H23: 2112 | I23: R | J23: 1908 | L23: L | M23: D | N23: MB | O23: Eneberettiget 1908. A. J. K.'s Kunstforlag | P23: Nr og baks.tekst i sort
A24: =A23+1 -> 23 | C24: D | D24: Hotell Egge | E24: Hotel Egge | F24: F | G24: SH | H24: 2113 | I24: R | J24: 1908 | L24: L | M24: D | N24: Web
A25: 24 | C25: D | D25: Bondhusbreen | E25: Bondlllhusbræ, Mauranger | F25: F | G25: F | H25: 2116 | I25: R | J25: 1908 | L25: L | M25: D | N25: POV | O25: Eneberettiget 1908. A. J. K.'s Kunstforlag | P25: Nr og baks.tekst i sort
A26: 25 | C26: D | D26: Stølsbilde | E26: Gjedemælking | F26: F | G26: F | H26: 2122 | I26: R | J26: 1908 | L26: S | M26: D | N26: POV | O26: Eneberettiget 1908. A. J. K.'s Kunstforlag | P26: Nr og baks.tekst i sort
A27: 26 | C27: D | D27: Ulvik | E27: Ulvik, Hardanger | F27: F | G27: SH | H27: 2125 | I27: R | J27: 1908 | K27: 1908 | L27: L | M27: D | N27: MB | O27: Eneberettiget 1908. A. J. K.'s Kunstforlag | P27: Nr og baks.tekst i sort
A28: 27 | C28: D | D28: Espelandsfossen | E28: Espelandsfos, Odde | F28: F | G28: F | H28: 2129 | I28: R | J28: 1908 | K28: 1909 | L28: S | M28: D | N28: MB | O28: Eneberettiget 1908. A. J. K.'s Kunstforlag | P28: Nr og baks.tekst i sort
A29: 28 | C29: D | D29: Sørfjorden | E29: Sørfjorden, Hardanger | F29: F | G29: SH | H29: 2134 | I29: R | J29: 1908 | L29: S | M29: D | N29: POV | O29: Eneberettiget 1908. A. J. K.'s Kunstforlag | P29: Nr og baks.tekst i sort
A30: 29 | C30: D | D30: Vøringsfossen | E30: Vøringsfos, Hardanger | F30: F | G30: F | H30: 2135 | I30: R | J30: 1908 | L30: S | M30: D | N30: POV | O30: Eneberettiget 1908. A. J. K.'s Kunstforlag | P30: Nr og baks.tekst i sort
A31: 30 | C31: D | D31: Odda | E31: Odde, Hardanger | F31: F | G31: SH | H31: 2138 | I31: R | J31: 1908 | L31: L | M31: D | N31: POV | O31: Eneberettiget 1908. A. J. K.'s Kunstforlag | P31: Nr og baks.tekst i sort
A32: 31 | C32: D | D32: Buarbreen | E32: Buarbræ, Hardanger | F32: F | G32: F | H32: 2143 | I32: R | J32: 1908 | L32: L | M32: D | N32: MB | O32: Eneberettiget 1908. A. J. K.'s Kunstforlag | P32: Nr og baks.tekst i sort
A33: =A32+1 -> 32 | C33: D | D33: Nedre Vassenden, Granvin | E33: Nedre Vasenden, Hardanger | F33: F | G33: SH | H33: 2145 | I33: R | J33: 1908 | L33: L | M33: D | N33: MB | O33: Eneberettiget 1908. A. J. K.'s Kunstforlag | P33: Nr og baks.tekst i sort
A34: =A33+1 -> 33 | C34: D | D34: Ulvik | E34: Ulvik, Hardanger | F34: F | G34: F | H34: 2149 | I34: R | J34: 1908 | L34: L | M34: D | N34: MB | O34: Eneberettiget 1908. A. J. K.'s Kunstforlag | P34: Nr og baks.tekst i sort
A35: =A34+1 -> 34 | C35: D | D35: Skjervefoss | E35: Veien ved Skjærvefos | F35: F | G35: F | H35: 2150 | I35: R | J35: 1908 | L35: S | M35: D | N35: MB | O35: Eneberettiget 1908. A. J. K.'s Kunstforlag | P35: Nr og baks.tekst i sort
A36: 35 | C36: D | D36: Suldalsporten | E36: Suldalsporten | F36: F | G36: F | H36: 2161 | I36: R | J36: 1908 | L36: L | M36: D | N36: POV | O36: Eneberettiget 1908. A. J. K.'s Kunstforlag | P36: Nr og baks.tekst i sort
A37: 36 | C37: D | D37: Sand | E37: Sand, Ryfylke | F37: F | G37: SH | H37: 2162 | I37: R | J37: 1908 | L37: L | M37: D | N37: POV | O37: Eneberettiget 1908. A. J. K.'s Kunstforlag | P37: Nr og baks.tekst i sort
A38: 37 | C38: D | D38: Folkedans | E38: Nationaldans, Sætersdalen | F38: F | G38: SH | H38: 2163 | I38: R | J38: 1908 | L38: L | M38: D | N38: POV | O38: Eneberettiget 1908. A. J. K.'s Kunstforlag | P38: Nr og baks.tekst i sort
A39: 38 | C39: D | D39: Eide | E39: Eide, Hardanger | F39: F | G39: F | H39: 2173 | I39: R | J39: 1908 | L39: L | M39: D | N39: POV | O39: Eneberettiget 1908. A. J. K.'s Kunstforlag | P39: Nr og baks.tekst i sort
A40: 39 | C40: D | D40: Fløyen | E40: Fløien | F40: F | G40: SH | H40: 2192 | I40: R | J40: 1908 | L40: L | M40: D | N40: POV | O40: Eneberettiget A. J. K. | P40: Nr. og utg.data på forsiden
A41: 40 | C41: D | D41: Lofthus | E41: Lofthus, Hardanger | F41: F | G41: F | H41: 2194 | I41: R | J41: 1908 | L41: L | M41: D | N41: MB | O41: Eneberettiget 1908. A. J. K.'s Kunstforlag | P41: Nr og baks.tekst i sort
A42: 41 | C42: D | D42: Vossebanen | E42: Vossebanen | F42: F | G42: SH | H42: 2196 | I42: R | J42: 1908 | L42: L | M42: D | N42: Web
A43: =A42+1 -> 42 | C43: D | D43: Bakke, Gudvangen | E43: Bakke, Gudvangen | F43: F | G43: SH | H43: 2199 | I43: R | J43: 1908 | L43: L | M43: D | N43: POV | O43: Eneberettiget 1908. A. J. K.'s Kunstforlag | P43: Nr og baks.tekst i sort
A44: =A43+1 -> 43 | C44: D | D44: Vossebanen | E44: Vossebanen | F44: F | G44: SH | H44: 2201 | I44: R | J44: 1908 | L44: L | M44: D | N44: Web | O44: Eneberettiget A. J. K. | P44: Nr. og utg.data på forsiden
A45: =A44+1 -> 44 | C45: D | D45: Vossebanen | E45: Vossebanen | F45: F | G45: SH | H45: 2221 | I45: R | J45: 1908 | K45: 1914 | L45: L | M45: D | N45: MB | O45: Eneberettiget 1908. A. J. K.'s Kunstforlag | P45: Nr og baks.tekst i sort
D47: Totalt registrert | E47: =SUBTOTAL(3,E3:E45) -> 43

Sheet Serie E
A1: Nr | B1: Lik | C1: Type | D1: J. P. J.-serie Motiv | E1: Sist oppdatert: 09.12.24 - NR Tekst | F1: Tekstside | G1: Farge/SH | H1: Kortnr | I1: Tekstfarg. | J1: Antatt utgitt år | K1: Brukt år | L1: Format | M1: Delt/Udelt | N1: Kilde | O1: Kommentar 1 | P1: Kommentar 2
A2: 1 | C2: E 1 | D2: Nærøyfjorden | E2: Næröfjord nær Gudvangen | F2: F | G2: SH | H2: No. 51 | I2: R | J2: 1906 | L2: S | M2: D | N2: MB | O2: J.P.J. No. nn | P2: A. J. K. B. i rødt på baksiden
A3: 2 | C3: E 2 | D3: Vinje Hotel | E3: Vinje Hotel | F3: F | G3: F | H3: No. 52 | I3: S | J3: 1906 | L3: L | M3: D | N3: POV | O3: Eneberettiget J. P. J. | P3: A. J. K. i B. i sort på baksiden
A4: 3 | C4: E 2 | D4: Mørkdalen | E4: Fra Mörkedalen nær Vinje | F4: F | G4: F | H4: No. 53 | I4: S | J4: 1906 | L4: L | M4: D | N4: MB | O4: Eneberettiget J. P. J. | P4: A. J. K. i B. i sort på baksiden
A5: 4 | C5: E 2 | D5: Mørkdalen | E5: Fra Mörkedalen nær Vinje | F5: F | G5: F | H5: No. 54 | I5: S | J5: 1906 | L5: L | M5: D | N5: POV | O5: Eneberettiget J. P. J. | P5: A. J. K. i B. i sort på baksiden
A6: 5 | C6: E 1 | D6: Borgund Kirke | E6: Interiör fra Borgund kirke | F6: F | G6: SH | H6: No. 57 | I6: R | J6: 1906 | L6: L | M6: D | N6: MB | O6: J.P.J. No. nn | P6: A. J. K. B. i rødt på baksiden
A7: =A6+1 -> 6 | C7: E 1 | D7: Lærdal | E7: Lærdal, Sogn | F7: F | G7: SH | H7: No. 58 | I7: R | J7: 1906 | L7: L | M7: D | N7: NR | O7: J.P.J. No. nn
A8: =A7+1 -> 7 | C8: E 1 | D8: Husum Lærdal | E8: Fra Husum | F8: F | G8: SH | H8: No. 59 | I8: R | J8: 1906 | L8: L | M8: D | N8: GB | O8: J.P.J. No. nn | P8: A. J. K. B. i rødt på baksiden
A9: =A8+1 -> 8 | C9: E 1 | D9: Lærdal | E9: Lærdal, Sogn | F9: F | G9: SH | H9: No. 60 | I9: R | J9: 1906 | L9: L | M9: D | N9: NR | O9: J.P.J. No. nn
A10: =A9+1 -> 9 | C10: E 1 | D10: Vei nær Husum | E10: Nær Husum, Lærdal i Sogn | F10: F | G10: SH | H10: No. 61 | I10: R | J10: 1906 | L10: S | M10: D | N10: POV | O10: J.P.J. No. nn | P10: A. J. K. B. i rødt på baksiden
A11: =A10+1 -> 10 | C11: E 1 | D11: Husum, Lærdal | E11: Nær Husum, Lærdal i Sogn | F11: F | G11: SH | H11: No. 62 | I11: R | J11: 1906 | L11: S | M11: D | N11: MB | O11: J.P.J. No. nn | P11: A. J. K. B. i rødt på baksiden
A12: =A11+1 -> 11 | C12: E 1 | D12: Ved Borgund | E12: Ved Borgund Lærdal | F12: F | G12: SH | H12: No. 63 | I12: R | J12: 1906 | L12: S | M12: D | N12: MB | O12: J.P.J. No. nn | P12: A. J. K. B. i rødt på baksiden
A13: 12 | C13: E 1 | D13: Jordalsnuten | E13: Jordalsnuten, Nærødalen | F13: F | G13: SH | H13: No. 65 | I13: R | J13: 1906 | L13: S | M13: D | N13: POV | O13: J.P.J. No. nn | P13: A. J. K. B. i rødt på baksiden
A14: 13 | C14: E 1 | D14: Nærødalen | E14: Nærødalen nær Gudvangen | F14: F | G14: SH | H14: No. 65 | I14: R | J14: 1906 | L14: S | M14: D | N14: POV | O14: J.P.J. No. nn | P14: A. J. K. B. i rødt på baksiden
A15: 14 | C15: E 1 | D15: Sivlefoss | E15: Sivlefos nær Stalheim | F15: F | G15: SH | H15: No. 66 | I15: R | J15: 1906 | L15: S | M15: D | N15: POV | O15: J.P.J. No. nn | P15: A. J. K. B. i rødt på baksiden
A16: 15 | C16: E 1 | D16: Borgund Kirke | E16: Borgund Kirke Lærdal | F16: F | G16: SH | H16: No. 67 | I16: R | J16: 1906 | L16: L | M16: D | N16: NR | O16: J.P.J. No. nn
A17: =A16+1 -> 16 | C17: E 1 | D17: Borgund Kirke | E17: Borgund Kirke Lærdal | F17: F | G17: SH | H17: No. 69 | I17: R | J17: 1906 | L17: L | M17: D | N17: MB | O17: J.P.J. No. nn | P17: A. J. K. B. i rødt på baksiden
A18: =A17+1 -> 17 | C18: E 1 | D18: Nærøydalen | E18: Nærödalen | F18: F | G18: SH | H18: No. 70 | I18: R | J18: 1906 | L18: L | M18: D | N18: MB | O18: J.P.J. No. nn | P18: A. J. K. B. i rødt på baksiden
A19: 18 | C19: E 1 | D19: Brudefølge | E19: Brudefølge, Hardanger | F19: F | G19: F | H19: No. 71 | I19: R | J19: 1906 | L19: S | M19: D | N19: POV | O19: J.P.J. No. nn | P19: A. J. K. B. i rødt på baksiden
A20: 19 | C20: E 1 | D20: Hardanger, bryllup | E20: Bryllupsfolk, Hardanger | F20: F | G20: SH | H20: No. 72 | I20: R | J20: 1906 | L20: L | M20: D | N20: MB | O20: J.P.J. No. nn | P20: A. J. K. B. i rødt på baksiden
A21: 20 | C21: E 1 | D21: Espelandsfossen | E21: Espelandsfos Hardanger | F21: F | G21: SH | H21: No. 74 | I21: R | J21: 1906 | L21: S | M21: D | N21: MB | O21: J.P.J. No. nn | P21: A. J. K. B. i rødt på baksiden
A22: 21 | C22: E 1 | D22: Bondhusbræ og Bondhusvand | E22: Bondhusbræ og Bondhusvand | F22: F | G22: SH | H22: No. 77 | I22: R | J22: 1906 | L22: S | M22: D | N22: POV | O22: J.P.J. No. nn | P22: A. J. K. B. i rødt på baksiden
A23: 22 | C23: E 1 | D23: Bratlandsdalen | E23: Fra Bratlandsdalen | F23: F | G23: SH | H23: No. 78 | I23: R | J23: 1906 | L23: S | M23: D | N23: POV | O23: J.P.J. No. nn | P23: A. J. K. B. i rødt på baksiden
A24: 23 | C24: E 3 | D24: Sæbø Eidfjord | E24: Veien til Sæbö i Eidfjord | F24: F | G24: SH | H24: No. 81 | I24: R | J24: 1906 | L24: S | M24: D | N24: MB | O24: No. nn J. P. J. | P24: A. J. K. i B. i sort på baksiden
A25: 24 | C25: E 3 | D25: Hildal | E25: Hildal seet fra Lotefos | F25: F | G25: SH | H25: No. 81 | I25: R | J25: 1906 | L25: L | M25: D | N25: POV | O25: No. nn J. P. J. | P25: A. J. K. i B. i sort på baksiden
A26: 25 | C26: E 3 | D26: Låtefoss | E26: Lotefos, Hardanger | F26: F | G26: SH | H26: No. 89 | I26: R | J26: 1906 | L26: L | M26: D | N26: POV | O26: No. nn J. P. J. | P26: A. J. K. i B. i sort på baksiden
A27: 26 | C27: E 3 | D27: Låtefoss | E27: Lotefos, Hardanger | F27: F | G27: SH | H27: No. 90 | I27: R | J27: 1906 | L27: S | M27: D | N27: POV | O27: No. nn J. P. J. | P27: A. J. K. i B. i sort på baksiden
A28: 27 | C28: E 3 | D28: Sæbø Eidfjord | E28: Veien til Sæbö i Eidfjord | F28: F | G28: SH | H28: No. 91 | I28: R | J28: 1906 | L28: S | M28: D | N28: POV | O28: No. nn J. P. J. | P28: A. J. K. i B. i sort på baksiden
D30: Totalt registrert | E30: =SUBTOTAL(3,A2:A29) -> 27

Sheet Serie F
A1: Nr | B1: Lik | C1: Type | D1: Serie uten nr Diverse typer kort Motiv | E1: Sist oppdatert: 14.10.24 - POV Tekst | F1: Tekstside | G1: Farge/SH | H1: Kortnr | I1: Tekstfarg. | J1: Antatt utgitt år | K1: Brukt år | L1: Format | M1: Delt/Udelt | N1: Kilde | O1: Kommentar 1 | P1: Kommentar 2
A2: 1 | C2: F | D2: Fotos av skuespillere i bokstaver | E2: Sølvfad til Bjørnstjerne Bjørnson fra venner og beundrere i Bergen | F2: F | G2: SH | H2: Unr | I2: S | J2: 1902 | K2: 1902 | L2: L | M2: U | N2: POV | O2: Eneret, Ant J. Karlsens Kunstforlag. Bergen | P2: Grieg's Boktrykkeri. Bergen
A3: =A2+1 -> 2 | C3: F | D3: Fotos av skuespillere i bokstaver | E3: Hilsen fra Bergen | F3: F | G3: SH | H3: Unr | I3: S | J3: 1903 | K3: 1904 | L3: L | M3: U | N3: MB | O3: A.J.K. m/B under strek
A4: =A3+1 -> 3 | C4: F | D4: Foto av skuespiller | E4: William Iversen | F4: F | G4: SH | H4: 17 | I4: S | J4: 1903 | K4: 1904 | L4: S | M4: U | N4: POV | O4: Eneberettiget Ant J. Karlsen Bergen | P4: Fotografisk
A5: =A4+1 -> 4 | C5: F | D5: Fotos fra Bergen | E5: Hilsen fra Bergen | F5: F | G5: SH | H5: Unr | I5: S | J5: 1903 | K5: 1905 | L5: L | M5: U | N5: MB | O5: A.J.K. m/B under strek
A6: =A5+1 -> 5 | C6: F | D6: Kunstkort Aug. Johannesen, motiv Grieg m.m. | E6: Ingen tittel | F6: F | G6: SH | H6: Unr | I6: S | J6: 1904 | L6: L | M6: U | N6: MB | O6: Eneret, Ant J. Karlsens Kunstforlag, Bergen
A7: =A6+1 -> 6 | C7: F | D7: Ålesund - brannruiner | E7: Aalesund efter Branden. Broen og Kirken | F7: F | G7: SH | H7: Unr | I7: S | J7: 1904 | K7: 1904 | L7: L | M7: U | N7: MB | O7: Ant.J.Karlsens Kunstforlag, Bergen + Joh. K. Engvig, Fotograf, Kristiansund
A8: =A7+1 -> 7 | C8: F | D8: Levanger | E8: Parti af Levanger seet fra Kirstineborg | F8: F | G8: SH | H8: Unr | I8: L | J8: 1905 | L8: L | M8: D | N8: MB | O8: A.. J. K. I B. | P8: J.Larsen, Levanger
A9: =A8+1 -> 8 | C9: F | D9: 1905-delegrasjonen til Karlstad | E9: De delegerede i Karlstad Michelsen Berner … | F9: F | G9: SH | H9: Unr | I9: L | J9: 1905 | L9: L | M9: D | N9: POV
A10: =A9+1 -> 9 | C10: F | D10: Folkeavstemming i Bergen | E10: 13. August 1905 | F10: F | G10: SH | H10: Unr | I10: H | J10: 1905 | L10: L | M10: U | N10: MB | O10: Eneberettiget Ant. J Karlsen
A11: =A10+1 -> 10 | B11: =A12 -> 11 | C11: F | D11: Tegnet kongekort m/flagg og tekst | E11: 13. August 1905 | F11: F | G11: F | H11: Unr | I11: S | J11: 1905 | L11: L | M11: D | N11: POV | O11: A. J. K. B. | P11: John Grieg, Bergen
A12: =A11+1 -> 11 | B12: =A11 -> 10 | C12: F | D12: Tegnet kongekort m/flagg og tekst | E12: 13. August 1905 | F12: F | G12: F | H12: Unr | I12: S | J12: 1905 | L12: L | M12: D | N12: POV | O12: A. J. K. B. (f.) - Eneberettiget Ant. J. Karlsen, Bergen | P12: John Grieg, Bergen
A13: =A12+1 -> 12 | C13: F | D13: Kongeparet f. Rådhuset/Bergen | E13: De kgl. forlater Raadhuset | F13: F | G13: SH | H13: Unr | I13: S | J13: 1906 | L13: L | M13: D | N13: MB | O13: Eneberettiget A.J.K., Bergen 1906
A14: =A13+1 -> 13 | C14: F | D14: Trondheimsfjorden | E14: Fra Kroningen 1906 - Fra Havnen. Kroningsdagen | F14: F | G14: SH | H14: Unr | I14: S | J14: 1906 | L14: L | M14: D | N14: MB | O14: Eneberettiget A.J.K. Bergen
A15: =A14+1 -> 14 | C15: F | D15: Kroningen i Trondheim | E15: Fra Kroningen 1906 - Fra Stiftsgaarden til Kirken | F15: F | G15: SH | H15: Unr | I15: S | J15: 1906 | L15: L | M15: D | N15: MB | O15: Eneberettiget A.J.K. Bergen
A16: =A15+1 -> 15 | C16: F | D16: Kroningsreise Otta | E16: Fra Kongeparrets Kroningsreise: Otta, Gudbrandsdalen | F16: F | G16: SH | H16: Unr | I16: S | J16: 1906 | L16: L | M16: D | N16: PiV | O16: Eneberettiget A.J.K. Bergen
A17: 16 | C17: F | D17: Kroningsreise Lillehammer | E17: Fra Kongeparrets Kroningsreiser Lillehammer. Paa Vei til Sandvigs Samlinger | F17: F | G17: SH | H17: Unr | I17: S | J17: 1906 | K17: 1906 | L17: L | M17: D | N17: POV | O17: Eneberettiget A.J.K. Bergen
A18: 17 | C18: F | D18: Kroningsreise Kristiansund | E18: Fra Kongeparrets Kroningsreise: Til Grand Hotel, Kristiansund N. | F18: F | G18: SH | H18: Unr | I18: S | J18: 1906 | L18: L | M18: D | N18: POV
A19: =A18+1 -> 18 | C19: F | D19: Kroningsreise Bergen | E19: Kongeparret ved Fokefesten i Nygaardsparken | F19: F | G19: SH | H19: Unr | I19: S | J19: 1906 | L19: L | M19: D | N19: CJH
A20: =A19+1 -> 19 | C20: F | D20: Kaien Kristiansund | E20: "Salmo" ved Kaien i Kristiansund N | F20: F | G20: SH | H20: Unr | I20: S | J20: 1906 | L20: S | M20: D | N20: PiV
A21: =A20+1 -> 20 | C21: F | D21: Chr. Michelsen | E21: Statsminister Chr. Michelsen | F21: F | G21: SH | I21: R | J21: 1906 | L21: S | M21: D | N21: POV | O21: Eneberettiget A.J.K., Bergen 1906 | P21: Serie C?
A22: =A21+1 -> 21 | C22: F | D22: Tegnet kongekort | E22: Haakon VII Kroning - Gud sign vor Konge | F22: F | G22: F | H22: Unr | I22: S | J22: 1906 | K22: 1906 | L22: L | M22: D | N22: MB | O22: Eneberettiget 1906. A. J. K. Bergen - baks | P22: John Grieg, Bergen for.
A23: 22 | C23: F | D23: Kongeparet på et skirenn? | E23: Ingen tittel | F23: F | G23: SH | H23: Unr | I23: S | J23: 1906 | K23: 1906 | L23: S | M23: D | N23: POV | O23: Eneberettiget Ant. J Karlsen 1906
A24: 23 | C24: F | D24: Soldater skyter ved en skigard | E24: Ingen tittel | F24: F | G24: SH | H24: Unr | I24: S | J24: 1906 | L24: S | M24: D | N24: POV | O24: Eneberettiget Ant. J Karlsen 1906
A25: 24 | C25: F | D25: Flagg m/vignetter av kongeparet | E25: Ingen tittel | F25: F | G25: F | H25: Unr | I25: S | J25: 1906 | L25: S | M25: D | N25: POV | O25: Eneberettiget Ant. J Karlsen, Bergen | P25: Kr.a. Lith. Forlag
A26: =A25+1 -> 25 | C26: F | D26: Tegnet kongekort m/vignetter av Chr. Michelsen og en til | E26: Ingen tittel | F26: F | G26: F | H26: Unr | I26: S | J26: 1906 | L26: S | M26: D | N26: POV | O26: Eneberettiget Ant. J Karlsen, Bergen/A. J. K. B. | P26: John Grieg Bergen
D29: Totalt registrert | E29: =SUBTOTAL(3,E2:E26) -> 25

Sheet Serie G b
A1: Nr | B1: Lik | C1: Type | D1: Serie uten nr Kunstkort Motiv | E1: Sist oppdatert: 14.10.24 - POV Tekst | F1: Tekstside | G1: Farge/SH | H1: Kortnr | I1: Tekstfarg. | J1: Antatt utgitt år | K1: Brukt år | L1: Format | M1: Delt/Udelt | N1: Kilde | O1: Kommentar 1 | P1: Kommentar 2
A2: 1 | C2: G 2 | D2: Bunadskledd par ved dam | E2: Ukjent kunstner | F2: F | G2: F | H2: Unr | I2: Br/S | J2: 1906 | L2: L | M2: D | N2: MB | O2: Eneret Ant. J. Karlsen, Bergen/John Grieg, Bergen (f) | P2: J. A. Thorbjørnsens Forlag, Bergen
A3: =A2+1 -> 2 | C3: G 3 | D3: Bunadspar danser ved seter | E3: Ukjent kunstner | F3: F | G3: F | H3: Unr | I3: Grå | J3: 1904 | L3: S | M3: U | N3: MB | O3: Eneret Ant. J. Karlsen, Bergen/John Grieg Lith. Etabl., Bergen (f)
A4: =A3+1 -> 3 | C4: G 2 | D4: Bunadspar danser ved strand | E4: Ukjent kunstner | F4: F | G4: F | H4: Unr | I4: Brun | J4: 1903 | K4: 1903 | L4: S | M4: D | N4: POV | O4: Eneret Ant. J. Karlsen, Bergen/John Grieg, Bergen (f)
A5: =A4+1 -> 4 | C5: G 2 | D5: Bunadspar holder hender | E5: Ukjent kunstner | F5: F | G5: F | H5: Unr | I5: Br/S | J5: 1906 | L5: L | M5: D | N5: MB | O5: Eneret Ant. J. Karlsen, Bergen/John Grieg, Bergen (f) | P5: J. A. Thorbjørnsens Forlag, Bergen
A6: =A5+1 -> 5 | C6: G 3 | D6: Bunadspar ved skigard | E6: Ukjent kunstner | F6: F | G6: F | H6: Unr | I6: Grå | J6: 1904 | L6: S | M6: U | N6: MB | O6: Eneret Ant. J. Karlsen, Bergen/John Grieg Lith. Etabl., Bergen (f)
A7: =A6+1 -> 6 | C7: G 2 | D7: Dame i bunad holder krone | E7: Ukjent kunstner | F7: F | G7: F | H7: Unr | J7: 1906 | L7: S | M7: D | N7: Web
A8: =A7+1 -> 7 | C8: G 1 | D8: Dame i Fanabunad m/mangletre | E8: Ukjent kunstner | F8: F | G8: F | H8: Unr | I8: S/B | J8: 1900 | L8: S | M8: U | N8: MB | O8: Eneret A. J. K./Kra Lit Aktiebolag
A9: =A8+1 -> 8 | C9: G 3 | D9: Dame i Fanabunad speider v/fjord | E9: Ukjent kunstner | F9: F | G9: F | H9: Unr | I9: Grå | J9: 1904 | K9: 1906 | L9: S | M9: U | N9: MB | O9: Eneret Ant. J. Karlsen, Bergen/John Grieg Lith. Etabl., Bergen (f)
A10: =A9+1 -> 9 | C10: G 2 | D10: Dame i robåt, men holder tauet | E10: Ukjent kunstner | F10: F | G10: F | H10: Unr | I10: S | J10: 1904 | K10: 1905 | L10: S | M10: U | N10: MB | O10: Eneret Ant. J. Karlsen, Bergen (f)
A11: =A10+1 -> 10 | C11: G 2 | D11: Dame med rive over skulderen | E11: Ukjent kunstner | F11: F | G11: F | H11: Unr | I11: S | J11: 1903 | L11: S | M11: U | N11: POV | O11: Eneret Ant. J. Karlsen, Bergen/John Grieg, Bergen (f)
A12: =A11+1 -> 11 | C12: G 2 | D12: Dame serverer mann | E12: Ukjent kunstner | F12: F | G12: F | H12: Unr | I12: Brun | J12: 1903 | K12: 1905 | L12: S | M12: D | N12: POV | O12: Eneret Ant. J. Karlsen, Bergen/John Grieg, Bergen (f)
A13: =A12+1 -> 12 | C13: G 2 | D13: Fjordlandskap med båt | E13: Ukjent kunstner | F13: F | G13: F | H13: Unr | I13: S | J13: 1906 | K13: 1907 | L13: L | M13: D | N13: POV | O13: Eneberettiget Ant. J. Karlsen, Bergen | P13: PK-bakside
A14: =A13+1 -> 13 | C14: G 2 | D14: Fire i bunad | E14: Ukjent kunstner | F14: F | G14: F | H14: Unr | J14: 1903 | L14: L | M14: D | N14: Web
A15: =A14+1 -> 14 | C15: G 3 | D15: Gutt i bunad spiller fløyte | E15: Ukjent kunstner | F15: F | G15: F | H15: Unr | I15: Grå | J15: 1904 | K15: 1905 | L15: S | M15: U | N15: MB | O15: Eneret Ant. J. Karlsen, Bergen/John Grieg Lith. Etabl., Bergen (f)
A16: =A15+1 -> 15 | C16: G 3 | D16: Gutt med flagg | E16: Ukjent kunstner | F16: F | G16: F | H16: Unr | I16: Grå | L16: S | N16: Web | O16: Eneberettiget Ant. J. Karlsen, Bergen
A17: =A16+1 -> 16 | B17: =A18 -> 17 | C17: G 2 | D17: Mann holder dame rundt halsen | E17: Ukjent kunstner | F17: F | G17: F | H17: Unr | I17: S | J17: 1903 | L17: S | M17: U | N17: GB | O17: Eneret Ant. J. Karlsen, Bergen/John Grieg, Bergen (f)
A18: =A17+1 -> 17 | B18: =A17 -> 16 | C18: G 3 | D18: Mann holder dame rundt halsen | E18: Ukjent kunstner | F18: F | G18: F | H18: Unr | I18: Grå | J18: 1904 | K18: 1906 | L18: S | M18: U | N18: POV | O18: Eneret Ant. J. Karlsen, Bergen/John Grieg Lith. Etabl., Bergen (f)
A19: =A18+1 -> 18 | B19: =A20 -> 19 | C19: G 2 | D19: Par på skøyter | E19: Ukjent kunstner | F19: F | G19: F | H19: Unr | I19: Br/S | J19: 1902 | L19: S | M19: U | N19: MB | O19: Eneret Ant. J. Karlsen, Bergen (f) | P19: John Grieg, Bergen (f)
A20: =A19+1 -> 19 | B20: =A19 -> 18 | C20: G 3 | D20: Par på skøyter | E20: Ukjent kunstner | F20: F | G20: F | H20: Unr | I20: Grå | J20: 1904 | L20: S | M20: U | N20: MB | O20: Eneret Ant. J. Karlsen, Bergen/John Grieg Lith. Etabl., Bergen (f)
A21: =A20+1 -> 20 | C21: G 3 | D21: Par kysser ved fjord | E21: Ukjent kunstner | F21: F | G21: F | H21: Unr | I21: Grå | J21: 1904 | K21: 1906 | L21: S | M21: U | N21: POV | O21: Eneret Ant. J. Karlsen, Bergen/John Grieg Lith. Etabl., Bergen (f)
A22: =A21+1 -> 21 | C22: G 3 | D22: To bunadsjenter v/mur v/en fjord | E22: Ukjent kunstner | F22: F | G22: F | H22: Unr | I22: Grå | J22: 1904 | K22: 1908 | L22: S | M22: U | N22: POV | O22: Eneret Ant. J. Karlsen, Bergen/John Grieg Lith. Etabl., Bergen (f)
A23: =A22+1 -> 22 | C23: G 3 | D23: To menn på jakt og bunadsdame | E23: Ukjent kunstner | F23: F | G23: F | H23: Unr | I23: S | J23: 1905 | L23: S | M23: D | N23: Web | O23: Eneberettiget 1905 Ant. J. Karlsen, Bergen
D25: Totalt registrert | E25: =SUBTOTAL(3,E2:E23) -> 22

Sheet Serie G k
A1: Nr | B1: Lik | C1: Type | D1: Serie uten nr Kunstkort Motiv | E1: Sist oppdatert: 29.05.25 Tekst | F1: Tekstside | G1: Farge/SH | H1: Kortnr | I1: Tekstfarg. | J1: Antatt utgitt år | K1: Brukt år | L1: Format | M1: Delt/Udelt | N1: Kilde | O1: Kommentar 1 | P1: Kommentar 2
A2: 1 | C2: G 3 | D2: Barn lager snømann på gårdsplass | E2: Julius Holck? | F2: F | G2: F | H2: Unr | I2: Grå | J2: 1904 | L2: L | M2: D | N2: MB | O2: Eneret Ant. J. Karlsen, Bergen/John Grieg Lith. Etabl., Bergen (f)
A3: =A2+1 -> 2 | C3: G 1 | D3: Barokk par foran mur | E3: Ukjent kunstner | F3: F | G3: F | H3: Unr | I3: Br/S | J3: 1898 | K3: 1907 | L3: S | M3: U | N3: MB | O3: Eneret A. J. K./Kra Lit Aktiebolag
A4: =A3+1 -> 3 | C4: G 2 | D4: Brudepar m/følge fra kirken | E4: Usignert kunstkort | F4: F | G4: F | H4: Unr | I4: S | J4: 1903 | K4: 1904 | L4: L | M4: U | N4: MB | O4: Eneret Ant. J. Karlsen, Bergen/John Grieg, Bergen (f)
A5: =A4+1 -> 4 | C5: G 2 | D5: Dame i militæruniform | E5: DS-signatur - Dame i militæruniform | F5: F | G5: F | H5: Unr | I5: S | J5: 1906 | L5: S | M5: D | N5: POV | O5: Eneberettiget Ant. J. Karlsen, Bergen | P5: PK-bakside
A6: =A5+1 -> 5 | C6: G 3 | D6: Fiskeflåte klar for skreifiske | E6: Julius Holck? | F6: F | G6: F | H6: Unr | I6: Grå | J6: 1906 | L6: L | M6: D | N6: POV | O6: Eneret Ant. J. Karlsen, Bergen/John Grieg Lith. Etabl., Bergen (f)
A7: =A6+1 -> 6 | C7: G 2 | D7: Fjordlandskap med båt | E7: Ukjent kunstner | F7: F | G7: F | H7: Unr | I7: S | J7: 1906 | K7: 1907 | L7: L | M7: D | N7: POV | O7: Eneberettiget Ant. J. Karlsen, Bergen | P7: PK-bakside
A8: =A7+1 -> 7 | C8: G 3 | D8: Midnattsol ved øy | E8: Frants Bøe (usign) | F8: F | G8: F | H8: Unr | I8: Grå | J8: 1906 | L8: L | M8: D | N8: MB | O8: Eneret Ant. J. Karlsen, Bergen/John Grieg Lith. Etabl., Bergen (f)
A9: =A8+1 -> 8 | C9: G 3 | D9: Same på ski med nordlys | E9: Frants Bøe? | F9: F | G9: F | H9: Unr | I9: Grå | J9: 1906 | L9: L | M9: D | N9: POV | O9: Eneret Ant. J. Karlsen, Bergen/John Grieg Lith. Etabl., Bergen (f)
A10: =A9+1 -> 9 | C10: G 2 | D10: Hesjer og gårdshus; fjell i bakgr. | E10: Julius Holck - Fjærland, Sogn | F10: F | G10: F | H10: Unr | I10: R/S | J10: 1903 | L10: L | M10: U | N10: MB | O10: Eneret Ant. J. Karlsen, Bergen/John Grieg, Bergen (f)
A11: =A10+1 -> 10 | C11: G 2 | D11: Fjord m/to naust og båter i fjorden | E11: Julius Holck - Fra Sognefjorden | F11: F | G11: F | H11: Unr | I11: R/S | J11: 1903 | L11: L | M11: U | N11: MB | O11: Eneret Ant. J. Karlsen, Bergen/John Grieg, Bergen (f)
A12: =A11+1 -> 11 | C12: G 1 | D12: Folk i bunader i båter fra kirken | E12: Julius Holck - Motiv fra Hardanger | F12: F | G12: F | H12: Unr | I12: S/Grå | J12: 1898 | L12: L | M12: U | N12: POV | O12: Eneret A. J. K./Kra Lit Aktiebolag
A13: =A12+1 -> 12 | C13: G 2 | D13: Naust m/laksetrapp og not | E13: Julius Holck - Motiv fra Nordfjord | F13: F | G13: F | H13: Unr | I13: S | J13: 1906 | L13: L | M13: D | N13: MB | O13: Eneret Ant. J. Karlsen, Bergen (f) | P13: M. M. Lohne, Kr.sand S
A14: =A13+1 -> 13 | C14: G 2 | D14: Mann i naust tar ut robåten | E14: Julius Holck - Motiv fra Nordfjord | F14: F | G14: F | H14: Unr | I14: S | J14: 1902 | L14: L | M14: U | N14: MB | O14: Eneret Ant. J. Karlsen, Bergen (f)
A15: =A14+1 -> 14 | C15: G 2 | D15: Jekte i fjord utenfor liten bygd | E15: Julius Holck - Motiv fra Nordfjord | F15: F | G15: F | H15: Unr | I15: L | J15: 1902 | L15: L | M15: U | N15: POV | O15: Eneret Ant. J. Karlsen, Bergen/John Grieg, Bergen (f)
A16: =A15+1 -> 15 | C16: G 2 | D16: 3 personer i robåt ved land | E16: Julius Holck - Motiv fra Voss | F16: F | G16: F | H16: Unr | I16: L | J16: 1902 | L16: L | M16: U | N16: POV | O16: Eneret Ant. J. Karlsen, Bergen (f)
A17: =A16+1 -> 16 | C17: G 2 | D17: Fiskebåte med seil på reden | E17: Julius Holck - Svolvær - Lofoten | F17: F | G17: F | H17: Unr | I17: L | J17: 1902 | L17: L | M17: U | N17: MB | O17: Eneret Ant. J. Karlsen, Bergen/John Grieg, Bergen (f)
A18: =A17+1 -> 17 | C18: G 1 | D18: 2 mann i robåt i trang fjord nær land | E18: Julius Holck - Sörfjorden Hardanger | F18: F | G18: F | H18: Unr | I18: L | J18: 1898 | K18: 1905 | L18: L | M18: U | N18: MB | O18: Eneret A. J. K./Kra Lit Aktiebolag | P18: Med påtrykkket nttårshilsen | Q18: Samme motiv hos N.J Udsalg
A19: =A18+1 -> 18 | C19: G 2 | D19: Naust m/jekte og dampbåt på fj. | E19: Julius Holck - Terøen - Hardanger | F19: F | G19: F | H19: Unr | I19: S | J19: 1902 | L19: L | M19: U | N19: MB | O19: Eneret Ant. J. Karlsen, Bergen/John Grieg, Bergen (f)
A20: =A19+1 -> 19 | B20: =A21 -> 20 | C20: G 2 | D20: Dame på bro på vei mot en gård | E20: Julius Holck - Ved Buarbræen - Hardanger | F20: F | G20: F | H20: Unr | I20: S | J20: 1902 | L20: L | M20: U | N20: MB | O20: Eneret Ant. J. Karlsen, Bergen/John Grieg, Bergen (f)
A21: =A20+1 -> 20 | B21: =A20 -> 19 | C21: G 2 | D21: Dame på bro på vei mot en gård | E21: Julius Holck - uten tittel | F21: F | G21: F | H21: Unr | I21: S | J21: 1906 | L21: L | M21: D | N21: MB | O21: Eneret Ant. J. Karlsen, Bergen/John Grieg, Bergen (f) | P21: J. A. Thorbjørnsens Forlag, Bergen
A22: =A21+1 -> 21 | C22: G 2 | D22: 4 barn lager snømann utenfor hus | E22: Julius Holck - Vintermotiv fra Voss | F22: F | G22: F | H22: Unr | I22: L | J22: 1902 | L22: L | M22: U | N22: POV | O22: Eneret Ant. J. Karlsen, Bergen (f)
A23: =A22+1 -> 22 | C23: G 2 | D23: Folk v/robåt og båter på fjorden | E23: H.Evensen - Motiv fra Sørfjorden | F23: F | G23: F | H23: Unr | I23: S | J23: 1902 | L23: L | M23: U | N23: MB | O23: Eneret Ant. J. Karlsen, Bergen/John Grieg, Bergen (f)
D25: Totalt registrert | E25: =SUBTOTAL(3,E2:E23) -> 22

Sheet Ark1

Sheet Gl L
B1: Glamour mankolister | C1: 1 | D1: =C1+1 -> 2 | E1: =D1+1 -> 3 | F1: =E1+1 -> 4 | G1: =F1+1 -> 5 | H1: =G1+1 -> 6 | I1: =H1+1 -> 7 | J1: =I1+1 -> 8 | K1: =J1+1 -> 9 | ... Z1: =Y1+1 -> 24 | AA1: Kommentarer
B3: Fidler sisters
B4: Poster No - har | D4: 40 | E4: 42 | F4: 43 | G4: 44 | H4: 50 | I4: 51 | J4: 52 | K4: 53 | L4: 54 | M4: 55 | AA4: Finnes i flere ulike motiv 40-45 og 50-55
B5: American girl | D5: 63 | E5: 110 | F5: 111 | G5: 126 | H5: 128 | I5: 129 | J5: 130 | K5: 131 | L5: 132 | M5: 133 | N5: 134 | O5: 135 | P5: 136 | Q5: 137 | R5: 138 | AA5: Finnes i nr 1-138
AA6: Har: 123 - mangler 15 og har 10 Posters
H7: 5 | M7: 10 | R7: 15 | W7: 20
B8: Harrison Fisher - MANGLER | D8: 301 | E8: 386 | F8: 405 | G8: 406 | H8: 410 | I8: 422 | J8: 600 | K8: 602 | L8: 604 | M8: 605 | N8: 612 | O8: 615 | P8: 970 | Q8: 975 | R8: 1001 | S8: 1002 | T8: 1004 | U8: 2041 | V8: 2069 | W8: 2086 | AA8: Mangler 51 (basert på ufullst. katalog)
D9: 2087 | E9: 2088 | F9: 2089 | G9: 2090 | H9: 2091 | I9: 2092 | J9: 2093 | K9: 2094 | L9: 2095 | M9: 2096 | N9: 2097 | O9: 2100 | P9: 2101 | Q9: 2102 | R9: 2103 | AA9: Har: 225
C11: 101 | D11: American beauties, A fair driver, A study hour, A thorougbread (107?), Over the tea cup, Those bewitching eyes (107?)
C12: 103 | D12: Wanted, an answer
C13: 107 | D13: Er dette manglende 101-ere?
C14: 108 | D14: An old song, Lost?, The bride, The debutant
C15: 123 | D15: A modern eve, Taking toll, You will marry a dark man, The fudge party
B16: Military Ladies series | C16: 981 USA, 982 Serbia, 983 Belgium, 984 France, 985 Italy, 987 Great Britain - USD 12-16
B19: 200 And yet her eyes, 201 Roses, 301 Sweetheart asleep
B20: 386 Speak!, 405 He won't bite, 406 Refreshments
B21: 410 Maid at arms, 422 Courting Attention, 600 Winter sport
B22: 602 A Christmas him, 604 Snow birds, 605 A Christmas belle
B23: 612 Tea time, 615 June
B24: 870 Reflections, 970 Chums, 975 The sailor maid, 1001 Cherry ripe, 1002 Beauties, 1004 Maid to worship
B25: 2041 A fair exhibitor, 2069 Paddling their own canoe, 2086 The pink of perfection, 2087 He won't bite, 2088 Following the race, 2089 The rose
B26: 2090 Well protected, 2091 Sketching, 2092 Ready and waiting, 2093 The parasol, 2095 Mary, 2096 Refreshments, 2097 Isn't he sweet?
B27: 2100 Odd moments, 2101 Tea time, 2102 Good night, 2103 A prairie belle
B29: Philip Boileau- MANGLER | AA29: Mangler 14 (basert på katalog)
C30: 95 | D30: Little lady Demure, Nocturne, Spring song | AA30: Har: 123
D31: Tomorrow, Winter whispers
C32: 109 | D32: Girl in black, My one rose
C33: 445 | D33: Spring song, Anticipating, A passing shadow, Little lady Demure, A mischiefmaker, Yesterday
B36: F. Earl Christy - har | D36: 168 | E36: 169 | F36: 170 | G36: 171 | H36: 172 | I36: 228 | J36: 231 | K36: 232 | L36: 233 | M36: 276 | N36: 277 | O36: 278 | P36: 279 | Q36: 280 | R36: 281 | S36: 364 | T36: 428 | U36: 429 | V36: 430 | W36: 432 | X36: 619 | Y36: 620 | Z36: 623 | AA36: Samler kun Reinthal & Newman
D37: 625 | E37: 626 | F37: 629 | G37: 945 | AA37: Har: 26
AA38: Mangler 31 (basert på katalog)
B39: F. Earl Christy - MANGLER | E39: 229 | F39: 230 | G39: 363 | H39: 365 | I39: 366 | J39: 367 | K39: 368 | L39: 431 | M39: 433 | N39: 618 | O39: 621 | P39: 622 | Q39: 624 | S39: 628 | T39: 942 | U39: 943 | V39: 944 | W39: 946 | X39: 947
D40: 2106, 2107, 2109
C42: Unr | D42: Love, A Sandwitch, Be with you in a minute, Always winning, Love dreams, Lovingly yours, Swimming
B43: 229 Lovingly yours, 230 Be with you in a minute, 363 A bit of tea and gossip, 365 For the wedding chest
B44: 366 The message of love, 367 The day's work, 368 A finishing touch, 431 A message of love, 433 Always winning, 618 The girl I like, 621 The girl I like to flirt with
B45: 622 The girl I like to play with, 624 By appointment, 627 A sandwitch, 628 With fond love, 942 Protected, 943 Someone is thinking of you, 944 Are you there?
B46: 946 Worth waiting for, 947 Not forgotten, 2106 On the bridal path, 2107 Tender memories, 2109 Nearest her heart
