Workbook

Sheet Om
B1: Utgiver | C1: Hvilke serier | E1: Bidragsyter - init. | F1: Bidragsyter - navn
B2: Stavangerfotografer | C2: Stavanger Forende Fotografer og andre lokale fotografer/utgivere | E2: MB | F2: Magne Botnedal
C3: Utgiverne er registrert i flikene: Stvgr For, E Oulii, J Kjølvik, St Wold, St P, S P og H P | E3: NTS | F3: Nils Terje Skylstad
E4: POV | F4: Per Otto Vold
B5: Fliker | C5: Hvilke serier | E5: PT | F5: Paul Tungesvik
B6: Om | C6: Om regnearket, hva som skal oppdateres, hvem har oppdatert etc
B7: Oppdat | C7: Hva er oppdatert, av hvem og antall registreringer (kobles mot tall fra Serier)
B8: Serier | C8: Hvilke serier/typer er med i regnearket og antall per flik + totalt antall reg.
B10: Hva skal oppdateres | C10: Beskrivelse
B11: Felter | C11: Kun data vi kjenner. F.eks kjenner vi ikke data for korrekt tittel, legg denne i kursiv - som en beskrivelse
C12: Tilsvarende for utgiverdata på baksiden
C13: Merk "Kortnr" og "Kilde" med gult - for lettere å se hva som har blitt endret
C14: Gult blir også benyttet for tomme felter
B15: Kobling til online-kopi | C15: Koble mot Tekst-kolonnen
B16: Kilde | C16: Legg inn dine initialer, evt en nettbasert kilde. Siste som oppdaterer tidl. reg. legger inn sine initialer
B17: Beskrivelser | C17: Når tekster utover registrering endres, merkes endringene med gul bakgrunn
B19: Regler | C19: Beskrivelse
B20: Initialer | C20: Oppdateres av den som oppdaterer, når det gjøres endringer i registreringer
B22: Kommentarer | C22: Beskrivelse
B23: N/A | C23: N/A
B25: Forslag | C25: Beskrivelse
B26: N/A | C26: N/A

Sheet Oppdat
A1: Dato | B1: Reg. av | C1: Hvilke(n) serie(r) er oppdatert | D1: Totalt ant. registrert
A2: 45392 | B2: POV | C2: Oversikt over fotografer og deres utgivelser | D2: 892
A3: 45481 | B3: MB | C3: Lagt inn oversikten i standard mal | D3: 892
A4: 45629 | B4: POV | C4: 51 nye registreringer | D4: 943
A5: 45678 | B5: NTS | C5: 15 nye registreringer | D5: 958
A6: 19533 | B6: PT | C6: 7 nye registreinger Oulii | D6: 965

Sheet Serier
A1: Utgivere | B1: Beskrivelse | C1: Ant. Periode | D1: Antall reg. | E1: Laveste nr | F1: Høyeste nr | G1: Utgiverdata | H1: Kommentar
A2: Stvgr For | B2: Stavanger Forenede Fotografer m/Eft | C2: 1907-1914 | D2: ='Stvgr For'!D238 -> 235 | E2: 19 eft | F2: 8981 | G2: A/S Stvgr. Forenede Fotografer, Stavanger m.fl. | H2: 15 fylker + Russland representert
A3: E Oulii | B3: Einar Oulii | C3: 1906-1907 | D3: ='E Oulii'!D17 -> 14 | E3: Unr | F3: Unr | G3: Einar Oulii | H3: Rogaland og Hordaland | AK3: 1909-1914
A4: J Kjølvik | B4: John Kjølvik | C4: 1909-1914 | D4: ='J Kjølvik'!D98 -> 95 | E4: 5 | F4: 404 | G4: John Kjølvik | H4: Vest-Agder til Møre og Romsdal
A5: St Wold | B5: Steinkopf Wold | C5: 1908-1911 | D5: ='St Wold'!D263 -> 260 | E5: 3 J | F5: 2094 | G5: Steinkopf Wold | H5: 10 ulike fylker
A6: L Olsen | B6: Lars Olsen | C6: 1907-1914 | D6: ='L Olsen'!F167 -> 164 | E6: 3 | F6: 08 36121 | G6: Lars Olsen | H6: Fylkene fra Telemark til Møre og Romsdal
A7: St P | B7: St. P. | C7: 1908-1911 | D7: ='St P'!D129 -> 126 | E7: 4 a | F7: 1983 | G7: St. P. | H7: 13 fylker og Sverige representert
A8: S P | B8: S. P. | C8: 1907-1909 | D8: ='S P'!D27 -> 24 | E8: 11 | F8: 140 | G8: Eneret S. P. | H8: Kun 2 fylker; Rogaland og Sogn & Fjordane
A9: H P | B9: H. P. | C9: 1907-1908 | D9: ='H P'!D50 -> 47 | E9: 8 | F9: 158 | G9: H. P. | H9: Kun 3 fylker, Aust- og Vest Agder og Rogaland
B11: Totalt registrerte | D11: =SUM(D2:D9) -> 965

Sheet Gl L
B1: Glamour mankolister | C1: 1 | D1: =C1+1 -> 2 | E1: =D1+1 -> 3 | F1: =E1+1 -> 4 | G1: =F1+1 -> 5 | H1: =G1+1 -> 6 | I1: =H1+1 -> 7 | J1: =I1+1 -> 8 | K1: =J1+1 -> 9 | ... Z1: =Y1+1 -> 24 | AA1: Kommentarer
B3: Fidler sisters
B4: Poster No - har | D4: 40 | E4: 42 | F4: 43 | G4: 44 | H4: 50 | I4: 51 | J4: 52 | K4: 53 | L4: 54 | M4: 55 | AA4: Finnes i flere ulike motiv 40-45 og 50-55
B5: American girl | D5: 63 | E5: 110 | F5: 111 | G5: 126 | H5: 128 | I5: 129 | J5: 130 | K5: 131 | L5: 132 | M5: 133 | N5: 134 | O5: 135 | P5: 136 | Q5: 137 | R5: 138 | AA5: Finnes i nr 1-138
AA6: Har: 123 - mangler 15 og har 10 Posters
H7: 5 | M7: 10 | R7: 15 | W7: 20
B8: Harrison Fisher - MANGLER | D8: 301 | E8: 386 | F8: 405 | G8: 406 | H8: 410 | I8: 422 | J8: 600 | K8: 602 | L8: 604 | M8: 605 | N8: 612 | O8: 615 | P8: 970 | Q8: 975 | R8: 1001 | S8: 1002 | T8: 1004 | U8: 2041 | V8: 2069 | W8: 2086 | AA8: Mangler 51 (basert på ufullst. katalog)
D9: 2087 | E9: 2088 | F9: 2089 | G9: 2090 | H9: 2091 | I9: 2092 | J9: 2093 | K9: 2094 | L9: 2095 | M9: 2096 | N9: 2097 | O9: 2100 | P9: 2101 | Q9: 2102 | R9: 2103 | AA9: Har: 225
C11: 101 | D11: American beauties, A fair driver, A study hour, A thorougbread (107?), Over the tea cup, Those bewitching eyes (107?)
C12: 103 | D12: Wanted, an answer
C13: 107 | D13: Er dette manglende 101-ere?
C14: 108 | D14: An old song, Lost?, The bride, The debutant
C15: 123 | D15: A modern eve, Taking toll, You will marry a dark man, The fudge party
B16: Military Ladies series | C16: 981 USA, 982 Serbia, 983 Belgium, 984 France, 985 Italy, 987 Great Britain - USD 12-16
B19: 200 And yet her eyes, 201 Roses, 301 Sweetheart asleep
B20: 386 Speak!, 405 He won't bite, 406 Refreshments
B21: 410 Maid at arms, 422 Courting Attention, 600 Winter sport
B22: 602 A Christmas him, 604 Snow birds, 605 A Christmas belle
B23: 612 Tea time, 615 June
B24: 870 Reflections, 970 Chums, 975 The sailor maid, 1001 Cherry ripe, 1002 Beauties, 1004 Maid to worship
B25: 2041 A fair exhibitor, 2069 Paddling their own canoe, 2086 The pink of perfection, 2087 He won't bite, 2088 Following the race, 2089 The rose
B26: 2090 Well protected, 2091 Sketching, 2092 Ready and waiting, 2093 The parasol, 2095 Mary, 2096 Refreshments, 2097 Isn't he sweet?
B27: 2100 Odd moments, 2101 Tea time, 2102 Good night, 2103 A prairie belle
B29: Philip Boileau- MANGLER | AA29: Mangler 14 (basert på katalog)
C30: 95 | D30: Little lady Demure, Nocturne, Spring song | AA30: Har: 123
D31: Tomorrow, Winter whispers
C32: 109 | D32: Girl in black, My one rose
C33: 445 | D33: Spring song, Anticipating, A passing shadow, Little lady Demure, A mischiefmaker, Yesterday
B36: F. Earl Christy - har | D36: 168 | E36: 169 | F36: 170 | G36: 171 | H36: 172 | I36: 228 | J36: 231 | K36: 232 | L36: 233 | M36: 276 | N36: 277 | O36: 278 | P36: 279 | Q36: 280 | R36: 281 | S36: 364 | T36: 428 | U36: 429 | V36: 430 | W36: 432 | X36: 619 | Y36: 620 | Z36: 623 | AA36: Samler kun Reinthal & Newman
D37: 625 | E37: 626 | F37: 629 | G37: 945 | AA37: Har: 26
AA38: Mangler 31 (basert på katalog)
B39: F. Earl Christy - MANGLER | E39: 229 | F39: 230 | G39: 363 | H39: 365 | I39: 366 | J39: 367 | K39: 368 | L39: 431 | M39: 433 | N39: 618 | O39: 621 | P39: 622 | Q39: 624 | S39: 628 | T39: 942 | U39: 943 | V39: 944 | W39: 946 | X39: 947
D40: 2106, 2107, 2109
C42: Unr | D42: Love, A Sandwitch, Be with you in a minute, Always winning, Love dreams, Lovingly yours, Swimming
B43: 229 Lovingly yours, 230 Be with you in a minute, 363 A bit of tea and gossip, 365 For the wedding chest
B44: 366 The message of love, 367 The day's work, 368 A finishing touch, 431 A message of love, 433 Always winning, 618 The girl I like, 621 The girl I like to flirt with
B45: 622 The girl I like to play with, 624 By appointment, 627 A sandwitch, 628 With fond love, 942 Protected, 943 Someone is thinking of you, 944 Are you there?
B46: 946 Worth waiting for, 947 Not forgotten, 2106 On the bridal path, 2107 Tender memories, 2109 Nearest her heart

Sheet Stvgr For
A1: Ant | B1: Lik | C1: Sist oppdatert: 03.12.24 - POV Stavanger Forende Fotografer Tekst | D1: Kortnr | E1: Antatt utg.år | F1: Brukt år | G1: Format | H1: Type | I1: Kilde | J1: Fylke | K1: Bruktdata | L1: Kommentar 1 | M1: Kommentar 2
A2: 1 | C2: Fra Andenes. Vesteraalen | D2: 19 eft | E2: 1907 | F2: 1910 | I2: POV | J2: NO | K2: Andenes 3VIII10
A3: =A2+1 -> 2 | C3: Rusland. Boris-Gleb | D3: 33 eft | E3: 1907 | I3: POV | J3: RUS
A4: =A3+1 -> 3 | C4: Parti fra Hosanger | D4: 1134 b | E4: 1907 | F4: 1912 | I4: POV | J4: HO | K4: Hardg. Sh G 18VIII12
A5: =A4+1 -> 4 | C5: Parti fra Tregde | D5: 1239/1240a | E5: 1907 | F5: 1912 | I5: POV | J5: VA | K5: Kristiansand 24/8-1912
A6: =A5+1 -> 5 | C6: Tregde | D6: 1239/1240b | E6: 1907 | F6: 1913 | I6: POV | J6: VA | K6: Kristiansand 21/2-1913
A7: =A6+1 -> 6 | C7: Holme pr. Mandal | D7: 1242 a | E7: 1907 | F7: 1909 | I7: POV | J7: VA | K7: Holme 19VII09
A8: =A7+1 -> 7 | C8: Vere, Lister | D8: 1249 b | E8: 1907 | F8: 1910 | I8: POV | J8: VA | K8: Vanse 30I10
A9: =A8+1 -> 8 | C9: Vere, Lister | D9: 1249 c-d | E9: 1907 | F9: 1910 | I9: POV | J9: VA | K9: Vanse 30I10
A10: =A9+1 -> 9 | C10: Melhus, Søndre Undal | D10: 1279 a | E10: 1907 | F10: 1909 | I10: POV | J10: VA | K10: Mandal 27X09
A11: =A10+1 -> 10 | C11: Melhus, Søndre Undal | D11: 1279 a | E11: 1907 | F11: 1908 | I11: POV | J11: VA | K11: Mandal 16V08
A12: =A11+1 -> 11 | C12: Snig. Søndre Undal | D12: 1282 a-b | E12: 1907 | F12: 1908 | I12: POV | J12: VA | K12: Undal 28XII08
A13: =A12+1 -> 12 | C13: Parti fra Skaalevik pr. Flekkerø | D13: 1285 | E13: 1907 | I13: POV | J13: VA
A14: =A13+1 -> 13 | C14: Parti fra Mebø pr. Flekkerø | D14: 1286 | E14: 1907 | F14: 1909 | I14: POV | J14: VA | K14: Kristiansand S 21.12.09
A15: =A14+1 -> 14 | C15: Lillesand | D15: 1290e | E15: 1907 | F15: 1911 | I15: POV | J15: AA | K15: Brevik-Krist. 9III11
A16: =A15+1 -> 15 | C16: Brækkestø | D16: 1291 | E16: 1907 | F16: 1909 | I16: POV | J16: AA | K16: Grimstad 19XII09
A17: =A16+1 -> 16 | C17: Lillesand | D17: 1293 | E17: 1907 | F17: 1910 | I17: POV | J17: AA | K17: Lillesand 15V10
A18: =A17+1 -> 17 | C18: Parti av Austad pr. Farsund | D18: 1321 | E18: 1907 | F18: 1908 | I18: POV | J18: VA | K18: Austad 8VI08
A19: =A18+1 -> 18 | C19: Parti fra Agnefest | D19: 1323 | E19: 1907 | I19: POV | J19: VA
A20: =A19+1 -> 19 | C20: Lyngdal | D20: 1324 a | E20: 1907 | I20: POV | J20: VA
A21: =A20+1 -> 20 | C21: Lyngdal | D21: 1324 b | E21: 1907 | I21: POV | J21: VA
A22: =A21+1 -> 21 | C22: Parti fra Bjorbek | D22: 1412 a-b | E22: 1907 | F22: 1912 | I22: POV | J22: AA | K22: Arendal 13/7-12
A23: =A22+1 -> 22 | C23: Fra Travkjøringen paa Sandvigvandet | D23: 1431 | E23: 1907 | F23: 1911 | I23: POV | J23: AA | K23: Grimstad 22XII11
A24: =A23+1 -> 23 | C24: Guldsmedengen pr. Arendal | D24: 1484 | E24: 1907 | F24: 1912 | I24: POV | J24: AA | K24: Brevik-Kr-sand S 22I12
A25: =A24+1 -> 24 | C25: Strømsbønes, Terneholmen, Svingaden pr Arendal | D25: 1487 | E25: 1907 | F25: 1910 | I25: POV | J25: AA | K25: Arendal 8XII10
A26: =A25+1 -> 25 | C26: Brække og Sandum PR. Tromø | D26: 1499 b-c | E26: 1907 | I26: POV | J26: AA | L26: 2-motivs kort
A27: =A26+1 -> 26 | C27: Nes Jernverk pr. Tvedestrand | D27: 1526 b | E27: 1908 | I27: POV | J27: AA
A28: =A27+1 -> 27 | C28: Monkestø pr. Arendal | D28: 1532 | E28: 1908 | F28: 1910 | I28: POV | J28: AA | K28: Arendal 6V10
A29: =A28+1 -> 28 | C29: Ødelgaarlden pr. Brevik | D29: 1669 a | E29: 1908 | I29: POV | J29: TE
A30: =A29+1 -> 29 | C30: Ødelgaarlden pr. Brevik | D30: 1669 b | E30: 1908 | I30: POV | J30: TE
A31: =A30+1 -> 30 | C31: Fra Nevlunghavn | D31: 1675 | E31: 1908 | I31: POV | J31: VF
A32: =A31+1 -> 31 | C32: Løvheim i Tjøllling | D32: 1682 b | E32: 1908 | F32: 1912 | I32: POV | J32: VF | K32: Tønsberg 13VII12
A33: =A32+1 -> 32 | C33: Fra Varhaug Jæderen | D33: 1697-1698 | E33: 1908 | F33: 1909 | I33: POV | J33: RO | K33: Varhaug 15V09
A34: =A33+1 -> 33 | C34: Vik. Rennesø | D34: 1738 | E34: 1908 | I34: POV | J34: RO
A35: =A34+1 -> 34 | C35: Vikevaag. Rennesø | D35: 1739 | E35: 1908 | F35: 1909 | I35: POV | J35: RO | K35: Rennesø 21XII09
A36: =A35+1 -> 35 | C36: Parti fra Raastad | D36: 1742 a-b | E36: 1908 | I36: POV | J36: VF
A37: =A36+1 -> 36 | C37: Parti fra Tjømø | D37: 1747 a | E37: 1908 | F37: 1913 | I37: POV | J37: VF | K37: Tjømø 15IV13
A38: =A37+1 -> 37 | C38: Parti fra Jaaberg | D38: 1749 a-b | E38: 1908 | F38: 1912 | I38: POV | J38: VF | K38: Joberg 21XII12
A39: =A38+1 -> 38 | C39: Parti fra Thorød. Nøtterø | D39: 1753 a-b | E39: 1908 | F39: 1911 | I39: POV | J39: VF | K39: Vestbanernes pexp A 6III11
A40: =A39+1 -> 39 | C40: Parti fra Ramnæs i Jarlsberg | D40: 1761 | E40: 1908 | F40: 1908 | I40: POV | J40: VF | K40: Ramnæs 12X08
...

Sheet E Oulii
A1: Ant | B1: Lik | C1: Sist oppdatert: 23.06.25 - PT Einar Oulii Tekst | D1: Kortnr | E1: Antatt utg.år | F1: Brukt år | G1: Format | H1: Type | I1: Kilde | J1: Fylke | K1: Bruktdata | L1: Kommentar 1 | M1: Kommentar 2
A2: 1 | C2: Eidsvik i Skjold | D2: Unr | E2: 1906 | F2: 1908 | I2: POV | J2: NO | K2: Grindefjord 19I08
A3: =A2+1 -> 2 | C3: Eidsvik i Skjold | D3: Unr | E3: 1906 | I3: POV | J3: RUS
A4: =A3+1 -> 3 | C4: Fjære(Søndhordland) | D4: Unr | E4: 1907 | F4: 1907 | I4: PT | J4: HO | K4: Aakrebotnen 25.XII.07
A5: =A4+1 -> 4 | C5: Haraldseidsvaag i Skjold | D5: Unr | E5: 1906 | I5: POV | J5: HO
A6: =A5+1 -> 5 | C6: Hilsen fra Hinna (2-bilders kort) | D6: Unr | E6: 1906 | F6: 1907 | I6: POV | J6: VA | K6: Hinna 4/6-07
A7: =A6+1 -> 6 | C7: Husnås Kirke | D7: Unr | E7: 1907 | F7: 1913 | I7: POV | J7: VA | K7: Husnes 30XII13
A8: =A7+1 -> 7 | C8: Sandvold | D8: Unr | E8: 1907 | F8: 1908 | I8: PT | J8: HO | K8: Sandvoll 07.01.08
A9: =A8+1 -> 8 | C9: Sandvold | D9: Unr | E9: 1907 | F9: 1910 | I9: PT | J9: HO | K9: Sandvold 07.08.10
A10: =A9+1 -> 9 | C10: Skjoldevig | D10: Unr | E10: 1906 | F10: 1909 | I10: POV | J10: VA | K10: Skjold 20X09
A11: =A10+1 -> 10 | C11: Tofte | D11: Unr | E11: 1907 | F11: 1916 | I11: PT | J11: HO | K11: Halsnøen 09XII16
A12: =A11+1 -> 11 | C12: Toftevaag | D12: Unr | E12: 1907 | I12: PT | J12: HO
A13: =A12+1 -> 12 | C13: Utaaker | D13: Unr | E13: 1907 | F13: 1911 | I13: PT | J13: HO | K13: Bergen 22.XII.11
A14: =A13+1 -> 13 | C14: Valen (Søndhordland) | D14: Unr | E14: 1907 | F14: 1908 | I14: POV | J14: VA | K14: Valen i Søndhordland 24XII08
A15: =A14+1 -> 14 | C15: Aakre(Søndhordland) | D15: Unr | E15: 1907 | F15: 1907 | I15: PT | J15: HO | K15: Aakre 23.XII.07
C17: Totalt registrert | D17: =SUBTOTAL(3,D2:D15) -> 14

Sheet J Kjølvik
A1: Ant | B1: Lik | C1: Sist oppdatert: 08.07.24 - MB John Kjølvik Tekst | D1: Kortnr | E1: Antatt utg.år | F1: Brukt år | G1: Format | H1: Type | I1: Kilde | J1: Fylke | K1: Atelier-sted | L1: Bruktdata | M1: Kommentar 1 | N1: Kommentar 2
A2: 1 | C2: A/S Norwegian Sardine Co. Kopervik | D2: Unr | E2: 1909+ | I2: POV | J2: RO | K2: Stavanger
A3: =A2+1 -> 2 | C3: Akerø - kirke. Romsdalen | D3: Unr | E3: 1909+ | I3: POV | J3: MR | K3: Stavanger
A4: =A3+1 -> 3 | C4: Anen Engsgate, Kopervik | D4: Unr | E4: 1909+ | F4: 1914 | I4: POV | J4: RO | K4: Stavanger | L4: Kopervik 24III14
A5: =A4+1 -> 4 | C5: Apotekergaten, Kopervik | D5: Unr | E5: 1909+ | I5: POV | J5: RO | K5: Stavanger
A6: =A5+1 -> 5 | C6: Brekke og Lerang - Ryfylke | D6: Unr | E6: 1909+ | F6: 1913 | I6: POV | J6: RO | K6: Stavanger | L6: Meling i Ryfylke 19VII13
A7: =A6+1 -> 6 | C7: Bru Ryfylke | D7: Unr | E7: 1909+ | I7: POV | J7: RO | K7: Stavanger
A8: =A7+1 -> 7 | C8: Eidsaa | D8: Unr | E8: 1909+ | F8: 1919 | I8: POV | J8: MR | K8: Stavanger | L8: Hinderaavaag 31XII19
A9: =A8+1 -> 8 | C9: Eikefjord-Kinn | D9: Unr | E9: 1909+ | I9: POV | J9: SF | K9: Stavanger
A10: =A9+1 -> 9 | C10: Fister Ryfylke | D10: Unr | E10: 1909+ | F10: 1912 | I10: POV | J10: RO | K10: Stavanger | L10: Fister 4/7-12
A11: =A10+1 -> 10 | C11: Florø | D11: Unr | E11: 1909+ | I11: POV | J11: SF | K11: Stavanger
A12: =A11+1 -> 11 | C12: Florø. Gadeparti | D12: Unr | E12: 1909+ | F12: 1910 | I12: POV | J12: SF | K12: Stavanger | L12: Florø 21XII10
A13: =A12+1 -> 12 | C13: Fra Skaanevik | D13: Unr | E13: 1909+ | I13: POV | J13: HO | K13: Stavanger
A14: =A13+1 -> 13 | C14: Fraa Maalsnes Sogn | D14: Unr | E14: 1909+ | F14: 1917 | I14: POV | J14: SF | K14: Stavanger | L14: Sogn 23XII17
A15: =A14+1 -> 14 | C15: Helle Ryfylke | D15: Unr | E15: 1909+ | F15: 1911 | I15: POV | J15: RO | K15: Stavanger | L15: Helle Ryfylke 1911
A16: =A15+1 -> 15 | C16: Hesby, Finnø | D16: Unr | E16: 1909+ | F16: 1920 | I16: POV | J16: RO | K16: Stavanger | L16: Stavanger 24XII20
A17: =A16+1 -> 16 | C17: Hilsen fra Tonstad | D17: Unr | E17: 1909+ | F17: 1919 | I17: POV | J17: VA | K17: Stavanger | L17: Tonstad 23XT19
A18: =A17+1 -> 17 | C18: Hilsen fra Tonstad | D18: Unr | E18: 1909+ | F18: 1920 | I18: POV | J18: VA | K18: Stavanger | L18: Tonstad 12I20
A19: =A18+1 -> 18 | C19: Hislen fra Tøsse | D19: Unr | E19: 1909+ | I19: POV | J19: HO | K19: Stavanger
A20: =A19+1 -> 19 | C20: Hjelmeland | D20: Unr | E20: 1909+ | F20: 1938 | I20: POV | J20: RO | K20: Sauda | L20: Skiftun 9/7-38
A21: =A20+1 -> 20 | C21: Hjelmeland | D21: Unr | E21: 1909+ | I21: POV | J21: RO | K21: Sauda
A22: =A21+1 -> 21 | C22: Hopen Høidalsfjord | D22: Unr | E22: 1909+ | I22: POV | J22: SF | K22: Stavanger
A23: =A22+1 -> 22 | C23: Hornellen | D23: Unr | E23: 1909+ | F23: 1911 | I23: POV | J23: SF | K23: Stavanger | L23: Moldøen 2VI11
A24: =A23+1 -> 23 | C24: Høle Ryfylke | D24: Unr | E24: 1909+ | F24: 1911 | I24: POV | J24: RO | K24: Stavanger | L24: Høle 12/12-11
A25: =A24+1 -> 24 | C25: Høle Ryfylke | D25: Unr | E25: 1909+ | F25: 1914 | I25: POV | J25: RO | K25: Stavanger | L25: Høle i Ryfylke 22/12-14
A26: =A25+1 -> 25 | C26: Judeberget Finnø | D26: Unr | E26: 1909+ | F26: 1910 | I26: POV | J26: RO | K26: Stavanger | L26: Finnø 21XI10
A27: =A26+1 -> 26 | C27: Kavli. Isfjorden | D27: Unr | E27: 1909+ | I27: POV | J27: MR | K27: Stavanger
A28: =A27+1 -> 27 | C28: Klokkergaarden, Finnø | D28: Unr | E28: 1909+ | F28: 1932 | I28: POV | J28: RO | K28: Stavanger | L28: Stavanger 16IX32
A29: =A28+1 -> 28 | C29: Landbruksskolen, Nærstrand, Ryfylke | D29: Unr | E29: 1909+ | F29: 1911 | I29: POV | J29: RO | K29: Stavanger | L29: Nerstrand 23XII11
A30: =A29+1 -> 29 | C30: Meling Ryfylke | D30: Unr | E30: 1909+ | F30: 1910 | I30: POV | J30: RO | K30: Stavanger | L30: Meling i Ryfylke 10VII10
A31: =A30+1 -> 30 | C31: Myklebust i Søvde | D31: Unr | E31: 1909+ | I31: POV | J31: SF | K31: Stavanger
A32: =A31+1 -> 31 | C32: Nærbø og Lauda, Finnø | D32: Unr | E32: 1909+ | I32: POV | J32: RO | K32: Stavanger
A33: =A32+1 -> 32 | C33: Nærstrand, Ryfylke | D33: Unr | E33: 1909+ | F33: 1917 | I33: POV | J33: RO | K33: Stavanger | L33: Stavanger 31XII17
A34: =A33+1 -> 33 | C34: Nærstrand, Ryfylke | D34: Unr | E34: 1909+ | I34: POV | J34: RO | K34: Stavanger
A35: =A34+1 -> 34 | C35: Nærstrand, Ryfylke | D35: Unr | E35: 1909+ | F35: 1915 | I35: POV | J35: RO | K35: Stavanger | L35: Nerstrand 3IX15
A36: =A35+1 -> 35 | C36: Oltedal | D36: Unr | E36: 1909+ | F36: 1933 | I36: POV | J36: RO | K36: Stavanger | L36: Oltedal 22/12-33
A37: =A36+1 -> 36 | C37: Oltedal Ryfylke | D37: Unr | E37: 1909+ | F37: 1913 | I37: POV | J37: RO | K37: Stavanger | L37: Oltedal 24/4-13
A38: =A37+1 -> 37 | C38: Oltedal i Ryfylke | D38: Unr | E38: 1909+ | I38: POV | J38: RO | K38: Stavanger
A39: =A38+1 -> 38 | C39: Oltedal i Ryfylke | D39: Unr | E39: 1909+ | F39: 1915 | I39: POV | J39: RO | K39: Stavanger | L39: Oltesvik 20/12-15
A40: =A39+1 -> 39 | C40: Oltesvik Ryfylke | D40: Unr | E40: 1909+ | F40: 1909 | I40: POV | J40: RO | K40: Stavanger | L40: Meling i Ryfylke 13/12-09
...

Sheet St Wold
A1: Ant | B1: Lik | C1: Sist oppdatert: 21.01.25 - NTS Anton Theodor Steinkopf Wold Tekst | D1: Kortnr | E1: Antatt utg.år | F1: Brukt år | G1: Format | H1: Type | I1: Kilde | J1: Fylke | K1: Bruktdata | L1: Kommentar 1 | M1: Kommentar 2
A2: 1 | C2: Fagerheim - Skaanevik | D2: 3 J | E2: 1908 | F2: 1915 | I2: POV | J2: HO | K2: Skaanevik 19XII15
A3: =A2+1 -> 2 | C3: Jondals Gaard | D3: 4 | E3: 1908 | F3: 1911 | I3: POV | J3: HO | K3: Datert nyttår 1911
A4: =A3+1 -> 3 | C4: Parti fra Oltedal | D4: 6 J | E4: 1908 | F4: 1911 | I4: POV | J4: RO | K4: Oltedal 21/12-11
A5: =A4+1 -> 4 | C5: Hogheim Tananger | D5: 7 | E5: 1908 | I5: POV | J5: RO
A6: =A5+1 -> 5 | C6: Slottevik Tysvær | D6: 8 | E6: 1908 | F6: 1916 | I6: POV | J6: RO | K6: Haugesund 23.12.16
A7: =A6+1 -> 6 | C7: Nordheim Harøy | D7: 14 | E7: 1908 | I7: SK | J7: MR
A8: =A7+1 -> 7 | C8: Parti fra Eide. Hardanger | D8: 29 | E8: 1908 | F8: 1920 | I8: POV | J8: HO | K8: Granvin 20V20
A9: =A8+1 -> 8 | C9: Kraftstationen Tyssedal-Hardanger | D9: 47 | E9: 1908 | F9: 1913 | I9: POV | J9: HO | K9: Tyssedal 1VIII13
A10: =A9+1 -> 9 | C10: Parti fra Tyssedal Hardanger | D10: 48 | E10: 1908 | F10: 1913 | I10: POV | J10: HO | K10: Tyssedal 27V13
A11: =A10+1 -> 10 | C11: Seminariet. Stord | D11: 73 | E11: 1908 | F11: 1914 | I11: POV | J11: HO | K11: Seminariet i Søndhordland 20XII14
A12: =A11+1 -> 11 | C12: Parti fra Seminariet | D12: 74 | E12: 1908 | F12: 1908 | I12: POV | J12: HO | K12: Seminariet i Søndhordland 7VIII08
A13: =A12+1 -> 12 | C13: Parti fra Seminariet | D13: 75 | E13: 1908 | F13: 1916 | I13: POV | J13: HO | K13: Bergen-Stavanger III i 1916
A14: =A13+1 -> 13 | C14: Parti fra Vegge pr Lyngdal | D14: 78 S | E14: 1908 | F14: 1911 | I14: POV | J14: VA | K14: Lyngdal 31I11
A15: =A14+1 -> 14 | C15: Parti fra Rudjord pr Lyngdal | D15: 80 S | E15: 1908 | F15: 1912 | I15: POV | J15: VA | K15: Lyngdal 10II12
A16: =A15+1 -> 15 | C16: Parti fra Drage Nordfjord | D16: 81 | E16: 1908 | I16: SK | J16: SF
A17: =A16+1 -> 16 | C17: Parti fra Flatraket Noradfjord | D17: 89 | E17: 1908 | I17: SK | J17: SF
A18: =A17+1 -> 17 | C18: Parti fra Sekse. Hardanger | D18: 90 | E18: 1908 | F18: 1913 | I18: POV | J18: HO | K18: Børve 22VIII13
A19: =A18+1 -> 18 | C19: Snartemo i Lyngdal | D19: 93 S | E19: 1908 | F19: 1912 | I19: POV | J19: VA | K19: Hægebostad 9III12
A20: =A19+1 -> 19 | C20: Parti fra Allmenningen Nordfjord | D20: 105 | E20: 1908 | I20: SK | J20: SF
A21: =A20+1 -> 20 | C21: Parti fra Odda Hardanger | D21: 108 | E21: 1908 | I21: POV | J21: HO
A22: =A21+1 -> 21 | C22: Parti fra Odda Hardanger | D22: 109 | E22: 1908 | I22: POV | J22: HO
A23: =A22+1 -> 22 | C23: Odda Sygehus. Gave fra Keiser Wilhelm | D23: 110 | E23: 1908 | I23: POV | J23: HO
A24: =A23+1 -> 23 | C24: Parti fra Odda, Hardanger | D24: 111 | E24: 1908 | F24: 1909 | I24: POV | J24: HO | K24: Odda 9XII09
A25: =A24+1 -> 24 | C25: Parti fra Naa Hardanger | D25: 112 | E25: 1908 | F25: 1921 | I25: POV | J25: HO | K25: Naa 26IX21
A26: =A25+1 -> 25 | C26: Parti fra Børve Hardanger | D26: 114 | E26: 1908 | F26: 1920 | I26: POV | J26: HO | K26: Børve 1VII20
A27: =A26+1 -> 26 | C27: Parti fra Lothe Hardanger | D27: 117 | E27: 1908 | I27: POV | J27: HO
A28: =A27+1 -> 27 | C28: Parti fra Eidfjord Hardanger | D28: 119 | E28: 1908 | F28: 1919 | I28: POV | J28: HO | K28: Eidfjord 24VII19
A29: =A28+1 -> 28 | C29: Parti fra Eide Hardanger | D29: 120 | E29: 1908 | I29: POV | J29: HO
A30: =A29+1 -> 29 | C30: Parti fra Utne Hardanger | D30: 123 | E30: 1908 | F30: 1909 | I30: POV | J30: HO | K30: Hard.-Søndh. Posteksp. E 27VIII09
A31: =A30+1 -> 30 | C31: Parti fra Hjelvik, Osterfjorden | D31: 123 | E31: 1908 | I31: POV | J31: HO
A32: =A31+1 -> 31 | C32: Parti fra Grimo Hardanger | D32: 125 | E32: 1908 | I32: POV | J32: HO
A33: =A32+1 -> 32 | C33: Parti fra Herand Hardanger | D33: 130 | E33: 1908 | F33: 1910 | I33: POV | J33: HO | K33: Hrd.sø.B13X10
A34: =A33+1 -> 33 | C34: Parti fra Herand Hardanger | D34: 131 | E34: 1908 | F34: 1911 | I34: POV | J34: HO | K34: Datert 3/2-11
A35: =A34+1 -> 34 | C35: Parti fra Aksnes Hardanger | D35: 133 | E35: 1908 | F35: 1909 | I35: POV | J35: HO | K35: Hardanger Søn. Post. A 25VIII09
A36: =A35+1 -> 35 | C36: Parti fra Øvre Krosdalen Hardanger | D36: 134 | E36: 1908 | F36: 1917 | I36: POV | J36: HO | K36: Jondal 22VII17
A37: =A36+1 -> 36 | C37: Parti fra Myren i Kvinnesdal | D37: 139 S | E37: 1908 | I37: POV | J37: VA
A38: =A37+1 -> 37 | C38: Parti fra Røirvik Hardanger | D38: 140 | E38: 1908 | I38: POV | J38: HO
A39: =A38+1 -> 38 | C39: Parti fra Lote Nordfjord | D39: 142 | E39: 1908 | I39: SK | J39: SF
A40: =A39+1 -> 39 | C40: Parti fra Langevaag | D40: 151 | E40: 1908 | F40: 1910 | I40: POV | J40: MR | K40: Aalesund 21.12.10
...

Sheet L Olsen
A1: Ant | B1: Lik | C1: Utgiverdata | D1: F/B | E1: Sist oppdatert: 08.07.24 - MB Lars Olsen Tekst | F1: Kortnr | G1: Antatt utg.år | H1: Brukt år | I1: Format | J1: Type | K1: Kilde | L1: Fylke | M1: Bruktdata | N1: Kommentar 1 | O1: Kommentar 2
A2: 1 | E2: Bruarbræen Odda-Hardanger - Norge | F2: Unr | G2: 1907+ | K2: POV | L2: HO
A3: =A2+1 -> 2 | E3: Domkirken, Prædekestolen Stavanger | F3: Unr | G3: 1907+ | J3: Farge | K3: POV | L3: RO
A4: =A3+1 -> 3 | E4: Domkirken, Stavanger | F4: Unr | G4: 1907+ | H4: 1917 | J4: Farge | K4: POV | L4: RO | M4: Sandnes 26III17
A5: =A4+1 -> 4 | E5: Fra Imsland, Ryfylke | F5: Unr | G5: 1907+ | K5: POV | L5: RO
A6: =A5+1 -> 5 | E6: Fra Sola pr. Stavanger | F6: Unr | G6: 1907+ | H6: 1911 | K6: POV | L6: RO | M6: Stavanger 27.12.11
A7: =A6+1 -> 6 | E7: Fra Vaaland, Stavanger | F7: Unr | G7: 1907+ | H7: 1909 | J7: Farge | K7: POV | L7: RO | M7: Stavanger 21.12.09
A8: =A7+1 -> 7 | E8: Hjeltnes Havebrugsskole, Ulvik, Hardanger | F8: Unr | G8: 1907+ | K8: POV | L8: HO
A9: =A8+1 -> 8 | E9: Indseilingen til Stavanger | F9: Unr | G9: 1907+ | H9: 1913 | K9: POV | L9: RO | M9: Chr.A-Bergen C18IX13
A10: =A9+1 -> 9 | E10: Kaien med Toldboden og Victoria Hotel | F10: Unr | G10: 1907+ | H10: 1908 | K10: POV | L10: RO | M10: Stavanger 8.8.08
A11: =A10+1 -> 10 | E11: Kongsgaard Skole, Stavanger | F11: Unr | G11: 1907+ | H11: 1911 | K11: POV | L11: RO | M11: Stavanger 22.12.11
A12: =A11+1 -> 11 | E12: Jernbaneveien, Stavanger | F12: Unr | G12: 1907+ | H12: 1913 | K12: POV | L12: RO | M12: Stavanger 7VI13
A13: =A12+1 -> 12 | E13: Kaien og Vaagen, Stavanger | F13: Unr | G13: 1907+ | H13: 1909 | J13: Farge | K13: POV | L13: RO | M13: Stavanger 13.12.09
A14: =A13+1 -> 13 | E14: Kaien og Vaagen, Stavanger | F14: Unr | G14: 1907+ | H14: 1910 | K14: POV | L14: RO | M14: Stavanger 22.12.10
A15: =A14+1 -> 14 | E15: Kaien og Vaagen, Stavanger | F15: Unr | G15: 1907+ | H15: 1914 | J15: Farge | K15: POV | L15: RO | M15: Stavanger 7V14
A16: =A15+1 -> 15 | E16: Klep station Jæderen | F16: Unr | G16: 1907+ | H16: 1916 | K16: POV | L16: RO | M16: Klepp st 2I16
A17: =A16+1 -> 16 | E17: Lister Fyr, Lister | F17: Unr | G17: 1907+ | K17: POV | L17: VA
A18: =A17+1 -> 17 | E18: Laatefossen, Odda, Hardanger | F18: Unr | G18: 1907+ | K18: POV | L18: HO
A19: =A18+1 -> 18 | E19: Hotellerne Bratlandsdalen, Nesflaten, Norge | F19: Unr | G19: 1907+ | K19: POV | L19: RO
A20: =A19+1 -> 19 | E20: Høllandsfos, Saude | F20: Unr | G20: 1907+ | K20: POV | L20: RO
A21: =A20+1 -> 20 | E21: Nærbø, Jæderen | F21: Unr | G21: 1907+ | H21: 1910 | K21: POV | L21: RO | M21: Nærbø 2XI10
A22: =A21+1 -> 21 | E22: Paa vei til Olsenvandet, Olden, Nordfjord | F22: Unr | G22: 1907+ | K22: POV | L22: SF
A23: =A22+1 -> 22 | E23: Parti af Parken, Stavanger | F23: Unr | G23: 1907+ | H23: 1911 | K23: POV | L23: RO | M23: Stavanger 23.7.11
A24: =A23+1 -> 23 | E24: Parti af Parken, Stavanger | F24: Unr | G24: 1907+ | H24: 1913 | K24: POV | L24: RO | M24: Stavanger 26.6.13
A25: =A24+1 -> 24 | E25: Parti af Parken, Stavanger | F25: Unr | G25: 1907+ | H25: 1913 | J25: Farge | K25: POV | L25: RO | M25: Stavanger 26XI13
A26: =A25+1 -> 25 | E26: Partiaf Røldal med Breifond Hotel, Norge | F26: Unr | G26: 1907+ | H26: 1914 | K26: POV | L26: HO | M26: Sand 20VI14
A27: =A26+1 -> 26 | E27: Parti fra Bakke, Hardanger | F27: Unr | G27: 1907+ | H27: 1910 | K27: POV | L27: HO | M27: STRANDEBARM 30X10
A28: =A27+1 -> 27 | E28: Parti fra Bredevandet. Stavanger | F28: Unr | G28: 1907+ | H28: 1910 | J28: Farge | K28: POV | L28: RO | M28: Stavanger 29.4.10
A29: =A28+1 -> 28 | E29: Parti fra Figgen | F29: Unr | G29: 1907+ | K29: POV | L29: RO
A30: =A29+1 -> 29 | E30: Parti fra Furuly Stord | F30: Unr | G30: 1907+ | K30: POV | L30: HO
A31: =A30+1 -> 30 | E31: Parti fra Helleland | F31: Unr | G31: 1907+ | H31: 1914 | K31: POV | L31: RO | M31: Helleland 31XII14
A32: =A31+1 -> 31 | E32: Parti fra Jørpeland | F32: Unr | G32: 1907+ | H32: 1921 | K32: POV | L32: RO | M32: Jørpeland 13VII21
A33: =A32+1 -> 32 | E33: Parti fra Kannik, Stavanger | F33: Unr | G33: 1907+ | H33: 1909 | K33: POV | L33: RO | M33: Chr.A-Bergen 12II09
A34: =A33+1 -> 33 | E34: Parti fra Kleppe, Jæderen | F34: Unr | G34: 1907+ | K34: POV | L34: RO
A35: =A34+1 -> 34 | E35: Parti fra Kleppe, Jæderen | F35: Unr | G35: 1907+ | K35: POV | L35: RO
A36: =A35+1 -> 35 | E36: Parti fra Kleppe, Jæderen | F36: Unr | G36: 1907+ | H36: 1911 | K36: POV | L36: RO | M36: Kleppe 27IX11
A37: =A36+1 -> 36 | E37: Parti fra Kleppe, Jæderen | F37: Unr | G37: 1907+ | K37: POV | L37: RO
A38: =A37+1 -> 37 | E38: Parti fra Gruben, Sagvaag, Stord | F38: Unr | G38: 1907+ | K38: POV | L38: HO
A39: =A38+1 -> 38 | E39: Parti fra Gruben, Sagvaag, Stord | F39: Unr | G39: 1907+ | H39: 1915 | K39: POV | L39: HO | M39: Stord 21VIII15
A40: =A39+1 -> 39 | E40: Parti fra Hauge, Sogndal | F40: Unr | G40: 1907+ | H40: 1912 | K40: POV | L40: RO | M40: Datert 1912
...

Sheet St P
A1: Ant | B1: Lik | C1: Sist oppdatert: 08.07.24 - MB St. P. Tekst | D1: Kortnr | E1: N.L&R. | F1: Antatt utg.år | G1: Brukt år | H1: Format | I1: Type | J1: Kilde | K1: Fylke | L1: Bruktdata | M1: Kommentar 1 | N1: Kommentar 2
A2: 1 | C2: Parti fra Handelsstedet Sjerliøren | D2: 4a | F2: 1908 | J2: POV | K2: ST
A3: =A2+1 -> 2 | C3: Bremangerpolen | D3: 8 | E3: 1681 | F3: 1908 | G3: 1909 | J3: POV | K3: SF | L3: Bremangerpollen 9IV09
A4: =A3+1 -> 3 | C4: Victoria Hotel, Haugesund | D4: 8 | F4: 1908 | G4: 1910 | J4: POV | K4: RO | L4: Chr.A-Bergen E 16IV10
A5: =A4+1 -> 4 | C5: Parti ved Time Kirke | D5: 9 | F5: 1908 | J5: POV | K5: RO
A6: =A5+1 -> 5 | C6: Hognestad St. Jæderen | D6: 10 | F6: 1908 | J6: POV | K6: RO
A7: =A6+1 -> 6 | C7: Parti fra Inset | D7: 11 12 | F7: 1908 | G7: 1910 | J7: POV | K7: ST | L7: Indset 23XII10
A8: =A7+1 -> 7 | C8: Krossen og Parti af Time, Jæderen | D8: 11 12 | F8: 1908 | J8: POV | K8: RO | M8: 2-motivs kort
A9: =A8+1 -> 8 | C9: Leganger Kirke, Stat. | D9: 12 | E9: 1980 | F9: 1908 | J9: POV | K9: SF
A10: =A9+1 -> 9 | C10: Undheim, Jæderen | D10: 14 | F10: 1908 | J10: POV | K10: RO
A11: =A10+1 -> 10 | C11: Undheim, Jæderen | D11: 15 | F11: 1908 | J11: POV | K11: RO
A12: =A11+1 -> 11 | C12: Markhaug i Kvikne | D12: 16-17 | F12: 1908 | J12: POV | K12: HE
A13: =A12+1 -> 12 | C13: Parti fra Tønset | D13: 30 | F13: 1908 | J13: POV | K13: HE
A14: =A13+1 -> 13 | C14: Tuftehaugen Skistue, Tønset (2 bilders kort) | D14: 37&40 | F14: 1908 | J14: POV | K14: HE
A15: =A14+1 -> 14 | C15: Parti fra Grimo, Hardanger | D15: 38 | F15: 1908 | G15: 1912 | J15: POV | K15: HO | L15: Grimo 18XII12
A16: =A15+1 -> 15 | C16: Parti fra Espe - Hardanger | D16: 51 | F16: 1908 | G16: 1911 | J16: POV | K16: HO | L16: Espe 14XII11
A17: =A16+1 -> 16 | C17: Røros gamle og Nye Kirke Parti fra Røros | D17: 70 | F17: 1908 | G17: 1911 | J17: POV | K17: ST | L17: Røros 10II11
A18: =A17+1 -> 17 | C18: Aalens Kirke Hilsen fra Hersjedalen | D18: 91-92 | F18: 1908 | J18: POV | K18: ST
A19: =A18+1 -> 18 | C19: Gaare i Holtaalen | D19: 100 | F19: 1908 | J19: POV | K19: ST
A20: =A19+1 -> 19 | C20: Hilsen fra Hell | D20: 120 | F20: 1908 | G20: 1913 | J20: POV | K20: NT | L20: Hell 20V13
A21: =A20+1 -> 20 | C21: Hilsen fra Hegset, Selbu | D21: 128 | F21: 1908 | J21: POV | K21: ST
A22: =A21+1 -> 21 | C22: Hotel "Fjeldvang." Atna St. Østerdalen | D22: 148 | F22: 1908 | J22: POV | K22: HE
A23: =A22+1 -> 22 | C23: Parti fra Melven | D23: 164 | F23: 1909 | G23: 1915 | J23: POV | K23: HE | L23: Hinna 30I15
A24: =A23+1 -> 23 | C24: Hilsen fra Førde, Søndfjord. | D24: 176 | E24: 1891 | F24: 1909 | J24: POV | K24: SF
A25: =A24+1 -> 24 | C25: Otta med Pillarguripiggen | D25: 178 | F25: 1909 | J25: POV | K25: OP
A26: =A25+1 -> 25 | C26: Otta seet fra Kringsjaa | D26: 179 | F26: 1909 | G26: 1911 | J26: POV | K26: OP | L26: Nordbanernes peksp H 6VIII11
A27: =A26+1 -> 26 | C27: Ulsteinvik | D27: 189 | F27: 1909 | G27: 1916 | J27: POV | K27: MR | L27: Ulstein 22XII16
A28: =A27+1 -> 27 | C28: Hilsen fra Barmsund | D28: 193 | E28: 1975 | F28: 1909 | G28: 1946 | J28: POV | K28: SF | L28: Barmsund 20X46
A29: =A28+1 -> 28 | C29: P. Bergs Landhandleri Morskogen St. | D29: 214 | F29: 1909 | G29: 1912 | J29: POV | K29: HE | L29: Hamar 10X12
A30: =A29+1 -> 29 | C30: Fiskaabygden - Søndmøre | D30: 215 | E30: 1981 | F30: 1909 | G30: 1916 | J30: POV | K30: MR | L30: Fiskaabygden 11VII16
A31: =A30+1 -> 30 | C31: Parti fra Sandviken, Feiring | D31: 217 | F31: 1909 | G31: 1917 | J31: POV | K31: AK | L31: Feiring 25IV17
A32: =A31+1 -> 31 | C32: Parti ved Engnes, Totenviken | D32: 218 | F32: 1909 | G32: 1911 | J32: POV | K32: OP | L32: Sarpsborg 22IX11
A33: =A32+1 -> 32 | C33: Parti fra Garnes | D33: 232 | F33: 1909 | J33: POV | K33: MR
A34: =A33+1 -> 33 | C34: Heddal seet fra Garnes | D34: 233 | F34: 1909 | J34: POV | K34: MR
A35: =A34+1 -> 34 | C35: Andebu Kirke og Interiør | D35: 271&272 | F35: 1909 | J35: POV | K35: VF
A36: =A35+1 -> 35 | C36: Panorama over Selje & Barmsund | D36: 279 | F36: 1909 | G36: 1922 | J36: POV | K36: SF | L36: Selje 23XII22
A37: =A36+1 -> 36 | C37: Parti fra Terningen Skole | D37: 329 | F37: 1909 | G37: 1911 | J37: POV | K37: HE | L37: Meling i Ryfylke 23XII11
A38: =A37+1 -> 37 | C38: Parti fra Lismarken | D38: 330-331 | F38: 1909 | J38: POV | K38: HE
A39: =A38+1 -> 38 | C39: Brauteset i Aamdalen | D39: 345 | F39: 1909 | J39: POV | K39: MR
A40: =A39+1 -> 39 | C40: Parti fra Hvarnes pr. Larvik | D40: 358 | F40: 1909 | J40: POV | K40: VF
...

Sheet S P
A1: Ant | B1: Lik | C1: Sist oppdatert: 08.07.24 - MB St. P. Tekst | D1: Kortnr | E1: N.L&R. | F1: Antatt utg.år | G1: Brukt år | H1: Format | I1: Type | J1: Kilde | K1: Fylke | L1: Bruktdata | M1: Kommentar 1 | N1: Kommentar 2
A2: 1 | C2: Solstrand pr. Høie, Førdesfjorden | D2: 11 | E2: 1446 | F2: 1907 | G2: 1908 | J2: POV | K2: RO | L2: Haugesund 18.12.08
A3: =A2+1 -> 2 | C3: Partiaf Lervik i Sogn | D3: 50 | E3: 1437 | F3: 1907 | G3: 1909 | J3: POV | K3: SF | L3: Stavanger 11.12.09
A4: =A3+1 -> 3 | C4: Parti af Lifjorden | D4: 60 | E4: 1272 | F4: 1907 | G4: 1909 | J4: POV | K4: SF | L4: Brukt 10/1-09
A5: =A4+1 -> 4 | C5: Parti af Skjoldestrømmen | D5: 72 | E5: 1278 | F5: 1907 | G5: 1911 | J5: POV | K5: RO | L5: Skjoldstrømmen 29XII11
A6: =A5+1 -> 5 | C6: Hilsen fra Skjoldestrømmen | D6: 73 | E6: 1279 | F6: 1907 | J6: POV | K6: RO
A7: =A6+1 -> 6 | C7: Hilsen fra Dale i Søndfjord | D7: 87 | E7: 1285 | F7: 1908 | G7: 1913 | J7: POV | K7: SF | L7: Salhus 2I13
A8: =A7+1 -> 7 | C8: Dale i Søndfjord | D8: 88 | E8: 1285 | F8: 1908 | G8: 1910 | J8: POV | K8: SF | L8: Fjord. Posteks. D 7VII10
A9: =A8+1 -> 8 | C9: Parti af Dale i Søndfjord | D9: 89-91 | E9: 1285 | F9: 1908 | G9: 1910 | J9: POV | K9: SF | L9: Fjord. Posteks. C 10VIII10
A10: =A9+1 -> 9 | C10: Parti af Dale i Søndfjord | D10: 90 | E10: 1285 | F10: 1908 | G10: 1911 | J10: POV | K10: SF | L10: Dale i Søndfjord 21XII11
A11: =A10+1 -> 10 | C11: Parti af Dale i Søndfjord | D11: 92 | E11: 1285 | F11: 1908 | G11: 1917 | J11: POV | K11: SF | L11: Fjord. Posteks. B 5IV17
A12: =A11+1 -> 11 | C12: Parti af Sandesund, Sundfjord | D12: 95 | E12: 1438 | F12: 1908 | G12: 1910 | J12: POV | K12: SF | L12: Datert juleaften 1910
A13: =A12+1 -> 12 | C13: Parti af Kumle i Søndfjord | D13: 96 | E13: 1440 | F13: 1908 | G13: 1910 | J13: POV | K13: SF | L13: Kumle 21XII10
A14: =A13+1 -> 13 | C14: Parti fra Stangfjorden. | D14: 97 | E14: 1441 | F14: 1908 | G14: 1910 | J14: POV | K14: SF | L14: Tinn 21XII10
A15: =A14+1 -> 14 | C15: Ohmsosen, Ryfylke | D15: 100 | E15: 1442 | F15: 1908 | G15: 1910 | J15: POV | K15: RO | L15: Nedre Vats 3I10
A16: =A15+1 -> 15 | C16: Parti af Sjurseike, Øvre Vats | D16: 102 | E16: 1443 | F16: 1908 | G16: 1932 | J16: POV | K16: RO | L16: Stavanger 30XII32
A17: =A16+1 -> 16 | C17: Slaatevik, Tysvær | D17: 106 | E17: 1444 | F17: 1908 | G17: 1910 | J17: POV | K17: RO | L17: Tysvær 23XII10
A18: =A17+1 -> 17 | C18: Parti av Grinde i Skjold | D18: 111 | E18: 1445 | F18: 1908 | G18: 1910 | J18: POV | K18: RO | L18: Skjoldsstraumen 8VII10
A19: =A18+1 -> 18 | C19: Partier fra Storesund,Karmøen | D19: 117-118 | E19: 1447 | F19: 1908 | J19: POV | K19: RO
A20: =A19+1 -> 19 | C20: Parti af Salhus pr. Haugesund | D20: 120 | E20: 1449 | F20: 1908 | G20: 1911 | J20: POV | K20: RO | L20: Haugesund 18.10.11
A21: =A20+1 -> 20 | C21: Kaarstø. Falkeidbygden | D21: 125-126 | E21: 1597 | F21: 1908 | G21: 1908 | J21: POV | K21: RO | L21: Tysvær 20XII08
A22: =A21+1 -> 21 | C22: Parti af Thuestad og Baarsvik i Røkesund | D22: 127 | E22: 1598 | F22: 1909 | J22: POV | K22: RO
A23: =A22+1 -> 22 | C23: Partiaf Mølstrevaag pr. Haugesund | D23: 138 | E23: 1606 | F23: 1909 | G23: 1909 | J23: POV | K23: RO | L23: Datert 3/4-1909
A24: =A23+1 -> 23 | C24: Skjeljevik pr. Mølstrevaag | D24: 139 | E24: 1606? | F24: 1909 | G24: 1910 | J24: POV | K24: RO | L24: Haugesund 25.8.10
A25: =A24+1 -> 24 | C25: Bleivik pr. Haugesund | D25: 140 | E25: 1608 | F25: 1909 | J25: POV | K25: RO
C27: Totalt registrert | D27: =SUBTOTAL(3,D2:D25) -> 24

Sheet H P
A1: Ant | B1: Lik | C1: Sist oppdatert: 08.07.24 - MB St. P. Tekst | D1: Kortnr | E1: N.L&R. | F1: Antatt utg.år | G1: Brukt år | H1: Format | I1: Type | J1: Kilde | K1: Fylke | L1: Bruktdata | M1: Kommentar 1 | N1: Kommentar 2
A2: 1 | C2: Høvik landhandel | D2: 8 | E2: 1074 | F2: 1907 | G2: 1908 | J2: POV | L2: Høvik 2X08
A3: =A2+1 -> 2 | C3: Vennesla Station | D3: 24 | E3: 1076 | F3: 1907 | J3: POV | K3: VA
A4: =A3+1 -> 3 | C4: Parti fra Vennesla | D4: 25 | E4: 1077 | F4: 1907 | G4: 1919 | J4: POV | K4: VA | L4: Brukt 1919
A5: =A4+1 -> 4 | C5: Parti fra Vennesla | D5: 26 | E5: 1077 | F5: 1907 | G5: 1908 | J5: POV | K5: VA | L5: Brukt 1908
A6: =A5+1 -> 5 | C6: Parti fra Vennesla | D6: 27 | E6: 1077 | F6: 1907 | G6: 1913 | J6: POV | K6: VA | L6: Brukt 1913
A7: =A6+1 -> 6 | C7: Parti fra Vennesla | D7: 29 | E7: 1077 | F7: 1907 | J7: POV | K7: VA
A8: =A7+1 -> 7 | C8: Parti fra Vennesla | D8: 30 | E8: 1078 | F8: 1907 | G8: 1908 | J8: POV | K8: VA | L8: Vennesland 22XII08
A9: =A8+1 -> 8 | C9: Parti fra Vennesla | D9: 31 | E9: 1078 | F9: 1907 | J9: POV | K9: VA
A10: =A9+1 -> 9 | C10: Parti fra Vennesla | D10: 32 | E10: 1079 | F10: 1907 | J10: POV | K10: VA
A11: =A10+1 -> 10 | C11: Parti fra Vennesla | D11: 33 | E11: 1080 | F11: 1907 | G11: 1908 | J11: POV | K11: VA | L11: Brukt 1908
A12: =A11+1 -> 11 | C12: Møllebaakken, Iveland | D12: 101 | E12: 1103 | F12: 1908 | G12: 1908 | J12: POV | K12: VA | L12: Cristiansand S 12.10.08
A13: =A12+1 -> 12 | C13: Parti fra Iveland | D13: 102 | E13: 1103 | F13: 1908 | J13: POV | K13: VA
A14: =A13+1 -> 13 | C14: Vinjetun | D14: 104 | E14: 1103 | F14: 1908 | J14: POV
A15: =A14+1 -> 14 | C15: Iveland Forbrugsforening | D15: 105 | E15: 1103 | F15: 1908 | J15: POV | K15: VA
A16: =A15+1 -> 15 | C16: Iveland Station | D16: 106 | E16: 1103 | F16: 1908 | G16: 1908 | J16: POV | K16: VA | L16: Iveland station 24XII08
A17: =A16+1 -> 16 | C17: Hægelands Landhandel | D17: 107 | E17: 1104 | F17: 1908 | J17: POV
A18: =A17+1 -> 17 | C18: Vonheim | D18: 108 | E18: 1104 | F18: 1908 | J18: POV
A19: =A18+1 -> 18 | C19: Parti fraa Hægeland | D19: 109 | E19: 1104 | F19: 1908 | G19: 1911 | J19: POV | L19: Hægland 8VII11
A20: =A19+1 -> 19 | C20: Parti fra Daanes | D20: 110 | E20: 1106 | F20: 1908 | G20: 1908 | J20: POV | L20: Hornæs27XII08
A21: =A20+1 -> 20 | C21: Hornnes Station | D21: 112 | E21: 1105 | F21: 1908 | G21: 1913 | J21: POV | L21: Aaseral 17XII13
A22: =A21+1 -> 21 | C22: Evje Station | D22: 114 | F22: 1908 | G22: 1909 | J22: POV | L22: Brukt 1909
A23: =A22+1 -> 22 | C23: Parti fra Grænna | D23: 117 | E23: 1108 | F23: 1908 | G23: 1910 | J23: POV | L23: Brukt 3/1-10
A24: =A23+1 -> 23 | C24: Gunnar Bakkes Gaard | D24: 120 | E24: 1109 | F24: 1908 | G24: 1908 | J24: POV | L24: Ryssestad 22XII08
A25: =A24+1 -> 24 | C25: Langrak | D25: 121 | E25: 1109 | F25: 1908 | J25: POV
A26: =A25+1 -> 25 | C26: Bygland Kirke | D26: 124 | E26: 1110 | F26: 1908 | G26: 1909 | J26: POV | K26: AA | L26: Vatrestrøn 23I09
A27: =A26+1 -> 26 | C27: Parti afg Oraksbø | D27: 126 | E27: 1122 | F27: 1908 | J27: POV
A28: =A27+1 -> 27 | C28: Parti af Moi | D28: 130 | F28: 1908 | G28: 1909 | J28: POV | K28: RO | L28: Jædersbanen 9/7-09
A29: =A28+1 -> 28 | C29: Parti fraa Moi | D29: 131 | E29: 1142 | F29: 1908 | G29: 1909 | J29: POV | K29: RO | L29: Moi 11XI09
A30: =A29+1 -> 29 | C30: Landhand Loge Moi | D30: 132 | E30: 1143 | F30: 1908 | G30: 1911 | J30: POV | K30: RO | L30: Brukt 1911
A31: =A30+1 -> 30 | C31: Parti fra Moi | D31: 133 | E31: 1143 | F31: 1908 | G31: 1911 | J31: POV | K31: RO | L31: Jæderb. 6IV11
A32: =A31+1 -> 31 | C32: Moi Jernbanestation | D32: 136 | E32: 1144 | F32: 1908 | J32: POV | K32: RO
A33: =A32+1 -> 32 | C33: Moi Jernbanestation | D33: 137 | E33: 1144 | F33: 1908 | J33: POV | K33: RO
A34: =A33+1 -> 33 | C34: Parti fra Ueland | D34: 138 | E34: 1145 | F34: 1908 | G34: 1909 | J34: POV | L34: Brukt 1909
A35: =A34+1 -> 34 | C35: Parti fra Helleland | D35: 139 | E35: 1146 | F35: 1908 | G35: 1908 | J35: POV | L35: Helleland 24VIII08
A36: =A35+1 -> 35 | C36: Parti fra Helland | D36: 141 | E36: 1147 | F36: 1908 | G36: 1911 | J36: POV | L36: Helleland 24XII11
A37: =A36+1 -> 36 | C37: Hilsen fra Helleland | D37: 142 | E37: 1147 | F37: 1908 | G37: 1908 | J37: POV | K37: RO | L37: Jæderbanens posteks.23XII08
A38: =A37+1 -> 37 | C38: Parti fra Vigrestad | D38: 143 | F38: 1908 | G38: 1908 | J38: POV | K38: RO | L38: Vigrestad 20XII08
A39: =A38+1 -> 38 | C39: Parti fra Vigrestad | D39: 144 | E39: 1148 | F39: 1908 | G39: 1910 | J39: POV | K39: RO | L39: Vigrestad 2I10
A40: =A39+1 -> 39 | C40: Vigrestad Station | D40: 145 | E40: 1148 | F40: 1908 | G40: 1910 | J40: POV | K40: RO | L40: Stavanger 30/12-10XII10
...
